Workbook
Name Codes: April!$AE$6:$AF$42
Name Codes: August!$AE$6:$AF$42
Name Codes: December!$AE$6:$AF$42
Name Codes: February!$AE$6:$AF$42
Name Codes: January!$AE$6:$AF$42
Name Codes: July!$AE$6:$AF$42
Name Codes: June!$AE$6:$AF$42
Name Codes: March!$AE$6:$AF$42
Name Codes: May!$AE$6:$AF$42
Name Codes: November!$AE$6:$AF$42
Name Codes: October!$AE$6:$AF$42
Name Codes: September!$AE$6:$AF$42
Name Year: 'Budget 2026'!$U$1

Sheet Budget 2026
B1: INCOME | U1: 2026
C2: Pre Tax: | D2: Per Paycheck | E2: Monthly | F2: Annual
B3: User 1 | C3: 41600
C4: Paycheck Frequency: | D4: Bi Weekly | E4: =IF(D4="Bi Weekly",26,24) -> 26
C5: Tax/Deduction Rate: | D5: 0.8
C6: 401K % | D6: 10
C7: PreTax Deductions: | D7: 10
C8: PreTax Parking/Transit: | D8: 10
B9: Income | C9: =C3-(C3*D6/100) -> 37440 | D9: =F9/E4 -> 1146 | E9: =F9/12 -> 2483 | F9: =(C9-D7*E4-D8*E4)*D5+D8*E4 -> 29796
B11: User 2 | C11: 20000
C12: Paycheck Frequency: | D12: Bi Monthly | E12: =IF(D12="Bi Weekly",26,24) -> 24
C13: Tax/Deduction Rate: | D13: 0.8
C14: 401K % | D14: 5
C15: PreTax Deductions: | D15: 5
C16: PreTax Parking/Transit: | D16: 5
B17: Income | C17: =C11-(C11*D14/100) -> 19000 | D17: =F17/E12 -> 630.33333 | E17: =F17/12 -> 1260.6667 | F17: =(C17-D15*E12-D16*E12)*D13+D16*E12 -> 15128
B19: Total Income W/401K | E19: =E9+E17 -> 3743.6667 | F19: =F9+F17 -> 44924
B21: <<See Grouping to the Left to Unhide Post Tax Deductions Section
B22: Post Tax Paycheck Deductions:
D23: Per Paycheck | E23: Monthly | F23: Annual
B24: =B3 -> User 1 | C24: Deduction | D24: 0 | E24: =D24*26/12 -> 0 | F24: =D24*26 -> 0
B25: =B11 -> User 2 | C25: Deduction | D25: 0 | E25: =D25*2 -> 0 | F25: =E25*12 -> 0
B27: Total: | E27: =F27/12 -> 0 | F27: =F24+F25 -> 0
B29: 401K/403b Savings Plan:
D30: Per Paycheck | E30: Monthly | F30: Annual
C31: =B3 -> User 1 | D31: =F31/E4 -> 160 | E31: =F31/12 -> 346.66667 | F31: =C3*D6/100 -> 4160
C32: =B11 -> User 2 | D32: =F32/E12 -> 41.666667 | E32: =F32/12 -> 83.333333 | F32: =(C11)*D14/100 -> 1000
B33: Total: | E33: =E32+E31 -> 430 | F33: =F32+F31 -> 5160
B35: Direct Depoit to Savings Account:
D36: Per Paycheck | E36: Monthly | F36: Annual
B37: =B3 & "'s Savings" -> User 1's Savings | D37: 0 | E37: =F37/12 -> 0 | F37: =D37*E4 -> 0
B38: =B11 & "'s Savings" -> User 2's Savings | D38: 0 | E38: =D38*2 -> 0 | F38: =E38*E12 -> 0
B40: Total: | E40: =F40/12 -> 0 | F40: =F38+F37 -> 0
B42: Values for Automatic IRA Contributions:
B43: IRA | D43: Per Paycheck | E43: Monthly | F43: Annual
C44: =B3 & "'s IRA Contributions:" -> User 1's IRA Contributions: | D44: =F44/E4 -> 0 | E44: =F44/12 -> 0 | F44: 0
C45: =B11 & "'s IRA Contributions:" -> User 2's IRA Contributions: | D45: =F45/E12 -> 0 | E45: =F45/12 -> 0 | F45: 0
B47: ROTH IRA | D47: Per Paycheck | E47: Monthly | F47: Annual
C48: =B3 & "'s Roth Contributions:" -> User 1's Roth Contributions: | D48: =F48/E4 -> 0 | E48: =F48/12 -> 0 | F48: 0
C49: =B11 & "'s Roth Contributions:" -> User 2's Roth Contributions: | D49: =F49/E12 -> 0 | E49: =F49/12 -> 0 | F49: 0
...

Sheet January
AE1: Account Code
D2: Checking Balance: | E2: 0 | F2: =REPLACE(CELL("filename",A1),1,FIND("]",CELL("filename",A1)),"") & " " &Year -> January 2026 | AE2: 1 | AG2: Checking
D3: Savings Balance: | E3: 100 | AE3: 2 | AG3: Savings
D4: Credit Balance: | E4: -100 | AE4: 3 | AG4: Credit
B5: Sunday | F5: Monday | J5: Tuesday | N5: Wednesday | R5: Thursday | V5: Friday | Z5: Saturday | AE5: Charge Codes | AH5: Summary
B6: B | C6: A | D6: Desc. | E6: Amt. | F6: B | G6: A | H6: Desc. | I6: Amt. | J6: B | K6: A | L6: Desc. | M6: Amt. | N6: B | O6: A | P6: Desc. | Q6: Amt. | R6: B | S6: A | T6: Desc. | U6: Amt. | V6: B | W6: A | X6: Desc. | Y6: Amt. | Z6: B | AA6: A | AB6: Desc. | AC6: Amt. | AE6: 0 | AG6: Income/Reimbursements | AH6: {=SUM(IF($B$7:$B$11=AE6,$E$7:$E$11),IF($F$7:$F$11=AE6,$I$7:$I$11),IF($J$7:$J$11=AE6,$M$7:$M$11),IF($N$7:$N$11=AE6,$Q$7:$Q$11),IF($R$7:$R$11=AE6,$U$7:$U$11),IF($V$7:$V$11=AE6,$Y$7:$Y$11),IF($Z$7:$Z$11=AE6,$AC$7:$AC$11), IF($B$15:$B$19=AE6,$E$15:$E$19),IF($F$15:$F$19=AE6,$I$15:$I$19),IF($J$15:$J$19=AE6,$M$15:$M$19),IF($N$15:$N$19=AE6,$Q$15:$Q$19),IF($R$15:$R$19=AE6,$U$15:$U$19),IF($V$15:$V$19=AE6,$Y$15:$Y$19),IF($Z$15:$Z$19=AE6,$AC$15:$AC$19), IF($B$23:$B$27=AE6,$E$23:$E$27),IF($F$23:$F$27=AE6,$I$23:$I$27),IF($J$23:$J$27=AE6,$M$23:$M$27),IF($N$23:$N$27=AE6,$Q$23:$Q$27),IF($R$23:$R$27=AE6,$U$23:$U$27),IF($V$23:$V$27=AE6,$Y$23:$Y$27),IF($Z$23:$Z$27=AE6,$AC$23:$AC$27), IF($B$31:$B$35=AE6,$E$31:$E$35),IF($F$31:$F$35=AE6,$I$31:$I$35),IF($J$31:$J$35=AE6,$M$31:$M$35),IF($N$31:$N$35=AE6,$Q$31:$Q$35),IF($R$31:$R$35=AE6,$U$31:$U$35),IF($V$31:$V$35=AE6,$Y$31:$Y$35),IF($Z$31:$Z$35=AE6,$AC$31:$AC$35), IF($B$39:$B$43=AE6,$E$39:$E$43),IF($F$39:$F$43=AE6,$I$39:$I$43),IF($J$39:$J$43=AE6,$M$39:$M$43),IF($N$39:$N$43=AE6,$Q$39:$Q$43),IF($R$39:$R$43=AE6,$U$39:$U$43),IF($V$39:$V$43=AE6,$Y$39:$Y$43),IF($Z$39:$Z$43=AE6,$AC$39:$AC$43), IF($B$47:$B$51=AE6,$E$47:$E$51),IF($F$47:$F$51=AE6,$I$47:$I$51),IF($J$47:$J$51=AE6,$M$47:$M$51),IF($N$47:$N$51=AE6,$Q$47:$Q$51),IF($R$47:$R$51=AE6,$U$47:$U$51),IF($V$47:$V$51=AE6,$Y$47:$Y$51),IF($Z$47:$Z$51=AE6,$AC$47:$AC$51))} -> 0
AE7: 1 | AG7: ='Budget 2026'!C62 -> Groceries | AH7: {=SUM(IF($B$7:$B$11=AE7,$E$7:$E$11),IF($F$7:$F$11=AE7,$I$7:$I$11),IF($J$7:$J$11=AE7,$M$7:$M$11),IF($N$7:$N$11=AE7,$Q$7:$Q$11),IF($R$7:$R$11=AE7,$U$7:$U$11),IF($V$7:$V$11=AE7,$Y$7:$Y$11),IF($Z$7:$Z$11=AE7,$AC$7:$AC$11), IF($B$15:$B$19=AE7,$E$15:$E$19),IF($F$15:$F$19=AE7,$I$15:$I$19),IF($J$15:$J$19=AE7,$M$15:$M$19),IF($N$15:$N$19=AE7,$Q$15:$Q$19),IF($R$15:$R$19=AE7,$U$15:$U$19),IF($V$15:$V$19=AE7,$Y$15:$Y$19),IF($Z$15:$Z$19=AE7,$AC$15:$AC$19), IF($B$23:$B$27=AE7,$E$23:$E$27),IF($F$23:$F$27=AE7,$I$23:$I$27),IF($J$23:$J$27=AE7,$M$23:$M$27),IF($N$23:$N$27=AE7,$Q$23:$Q$27),IF($R$23:$R$27=AE7,$U$23:$U$27),IF($V$23:$V$27=AE7,$Y$23:$Y$27),IF($Z$23:$Z$27=AE7,$AC$23:$AC$27), IF($B$31:$B$35=AE7,$E$31:$E$35),IF($F$31:$F$35=AE7,$I$31:$I$35),IF($J$31:$J$35=AE7,$M$31:$M$35),IF($N$31:$N$35=AE7,$Q$31:$Q$35),IF($R$31:$R$35=AE7,$U$31:$U$35),IF($V$31:$V$35=AE7,$Y$31:$Y$35),IF($Z$31:$Z$35=AE7,$AC$31:$AC$35), IF($B$39:$B$43=AE7,$E$39:$E$43),IF($F$39:$F$43=AE7,$I$39:$I$43),IF($J$39:$J$43=AE7,$M$39:$M$43),IF($N$39:$N$43=AE7,$Q$39:$Q$43),IF($R$39:$R$43=AE7,$U$39:$U$43),IF($V$39:$V$43=AE7,$Y$39:$Y$43),IF($Z$39:$Z$43=AE7,$AC$39:$AC$43), IF($B$47:$B$51=AE7,$E$47:$E$51),IF($F$47:$F$51=AE7,$I$47:$I$51),IF($J$47:$J$51=AE7,$M$47:$M$51),IF($N$47:$N$51=AE7,$Q$47:$Q$51),IF($R$47:$R$51=AE7,$U$47:$U$51),IF($V$47:$V$51=AE7,$Y$47:$Y$51),IF($Z$47:$Z$51=AE7,$AC$47:$AC$51))} -> 0
AE8: 2 | AG8: ='Budget 2026'!C63 -> Gasoline | AH8: {=SUM(IF($B$7:$B$11=AE8,$E$7:$E$11),IF($F$7:$F$11=AE8,$I$7:$I$11),IF($J$7:$J$11=AE8,$M$7:$M$11),IF($N$7:$N$11=AE8,$Q$7:$Q$11),IF($R$7:$R$11=AE8,$U$7:$U$11),IF($V$7:$V$11=AE8,$Y$7:$Y$11),IF($Z$7:$Z$11=AE8,$AC$7:$AC$11), IF($B$15:$B$19=AE8,$E$15:$E$19),IF($F$15:$F$19=AE8,$I$15:$I$19),IF($J$15:$J$19=AE8,$M$15:$M$19),IF($N$15:$N$19=AE8,$Q$15:$Q$19),IF($R$15:$R$19=AE8,$U$15:$U$19),IF($V$15:$V$19=AE8,$Y$15:$Y$19),IF($Z$15:$Z$19=AE8,$AC$15:$AC$19), IF($B$23:$B$27=AE8,$E$23:$E$27),IF($F$23:$F$27=AE8,$I$23:$I$27),IF($J$23:$J$27=AE8,$M$23:$M$27),IF($N$23:$N$27=AE8,$Q$23:$Q$27),IF($R$23:$R$27=AE8,$U$23:$U$27),IF($V$23:$V$27=AE8,$Y$23:$Y$27),IF($Z$23:$Z$27=AE8,$AC$23:$AC$27), IF($B$31:$B$35=AE8,$E$31:$E$35),IF($F$31:$F$35=AE8,$I$31:$I$35),IF($J$31:$J$35=AE8,$M$31:$M$35),IF($N$31:$N$35=AE8,$Q$31:$Q$35),IF($R$31:$R$35=AE8,$U$31:$U$35),IF($V$31:$V$35=AE8,$Y$31:$Y$35),IF($Z$31:$Z$35=AE8,$AC$31:$AC$35), IF($B$39:$B$43=AE8,$E$39:$E$43),IF($F$39:$F$43=AE8,$I$39:$I$43),IF($J$39:$J$43=AE8,$M$39:$M$43),IF($N$39:$N$43=AE8,$Q$39:$Q$43),IF($R$39:$R$43=AE8,$U$39:$U$43),IF($V$39:$V$43=AE8,$Y$39:$Y$43),IF($Z$39:$Z$43=AE8,$AC$39:$AC$43), IF($B$47:$B$51=AE8,$E$47:$E$51),IF($F$47:$F$51=AE8,$I$47:$I$51),IF($J$47:$J$51=AE8,$M$47:$M$51),IF($N$47:$N$51=AE8,$Q$47:$Q$51),IF($R$47:$R$51=AE8,$U$47:$U$51),IF($V$47:$V$51=AE8,$Y$47:$Y$51),IF($Z$47:$Z$51=AE8,$AC$47:$AC$51))} -> 0
AE9: 3 | AG9: ='Budget 2026'!C64 -> User 1 CASH | AH9: {=SUM(IF($B$7:$B$11=AE9,$E$7:$E$11),IF($F$7:$F$11=AE9,$I$7:$I$11),IF($J$7:$J$11=AE9,$M$7:$M$11),IF($N$7:$N$11=AE9,$Q$7:$Q$11),IF($R$7:$R$11=AE9,$U$7:$U$11),IF($V$7:$V$11=AE9,$Y$7:$Y$11),IF($Z$7:$Z$11=AE9,$AC$7:$AC$11), IF($B$15:$B$19=AE9,$E$15:$E$19),IF($F$15:$F$19=AE9,$I$15:$I$19),IF($J$15:$J$19=AE9,$M$15:$M$19),IF($N$15:$N$19=AE9,$Q$15:$Q$19),IF($R$15:$R$19=AE9,$U$15:$U$19),IF($V$15:$V$19=AE9,$Y$15:$Y$19),IF($Z$15:$Z$19=AE9,$AC$15:$AC$19), IF($B$23:$B$27=AE9,$E$23:$E$27),IF($F$23:$F$27=AE9,$I$23:$I$27),IF($J$23:$J$27=AE9,$M$23:$M$27),IF($N$23:$N$27=AE9,$Q$23:$Q$27),IF($R$23:$R$27=AE9,$U$23:$U$27),IF($V$23:$V$27=AE9,$Y$23:$Y$27),IF($Z$23:$Z$27=AE9,$AC$23:$AC$27), IF($B$31:$B$35=AE9,$E$31:$E$35),IF($F$31:$F$35=AE9,$I$31:$I$35),IF($J$31:$J$35=AE9,$M$31:$M$35),IF($N$31:$N$35=AE9,$Q$31:$Q$35),IF($R$31:$R$35=AE9,$U$31:$U$35),IF($V$31:$V$35=AE9,$Y$31:$Y$35),IF($Z$31:$Z$35=AE9,$AC$31:$AC$35), IF($B$39:$B$43=AE9,$E$39:$E$43),IF($F$39:$F$43=AE9,$I$39:$I$43),IF($J$39:$J$43=AE9,$M$39:$M$43),IF($N$39:$N$43=AE9,$Q$39:$Q$43),IF($R$39:$R$43=AE9,$U$39:$U$43),IF($V$39:$V$43=AE9,$Y$39:$Y$43),IF($Z$39:$Z$43=AE9,$AC$39:$AC$43), IF($B$47:$B$51=AE9,$E$47:$E$51),IF($F$47:$F$51=AE9,$I$47:$I$51),IF($J$47:$J$51=AE9,$M$47:$M$51),IF($N$47:$N$51=AE9,$Q$47:$Q$51),IF($R$47:$R$51=AE9,$U$47:$U$51),IF($V$47:$V$51=AE9,$Y$47:$Y$51),IF($Z$47:$Z$51=AE9,$AC$47:$AC$51))} -> 0
AE10: 4 | AG10: ='Budget 2026'!C65 -> User 2 CASH | AH10: {=SUM(IF($B$7:$B$11=AE10,$E$7:$E$11),IF($F$7:$F$11=AE10,$I$7:$I$11),IF($J$7:$J$11=AE10,$M$7:$M$11),IF($N$7:$N$11=AE10,$Q$7:$Q$11),IF($R$7:$R$11=AE10,$U$7:$U$11),IF($V$7:$V$11=AE10,$Y$7:$Y$11),IF($Z$7:$Z$11=AE10,$AC$7:$AC$11), IF($B$15:$B$19=AE10,$E$15:$E$19),IF($F$15:$F$19=AE10,$I$15:$I$19),IF($J$15:$J$19=AE10,$M$15:$M$19),IF($N$15:$N$19=AE10,$Q$15:$Q$19),IF($R$15:$R$19=AE10,$U$15:$U$19),IF($V$15:$V$19=AE10,$Y$15:$Y$19),IF($Z$15:$Z$19=AE10,$AC$15:$AC$19), IF($B$23:$B$27=AE10,$E$23:$E$27),IF($F$23:$F$27=AE10,$I$23:$I$27),IF($J$23:$J$27=AE10,$M$23:$M$27),IF($N$23:$N$27=AE10,$Q$23:$Q$27),IF($R$23:$R$27=AE10,$U$23:$U$27),IF($V$23:$V$27=AE10,$Y$23:$Y$27),IF($Z$23:$Z$27=AE10,$AC$23:$AC$27), IF($B$31:$B$35=AE10,$E$31:$E$35),IF($F$31:$F$35=AE10,$I$31:$I$35),IF($J$31:$J$35=AE10,$M$31:$M$35),IF($N$31:$N$35=AE10,$Q$31:$Q$35),IF($R$31:$R$35=AE10,$U$31:$U$35),IF($V$31:$V$35=AE10,$Y$31:$Y$35),IF($Z$31:$Z$35=AE10,$AC$31:$AC$35), IF($B$39:$B$43=AE10,$E$39:$E$43),IF($F$39:$F$43=AE10,$I$39:$I$43),IF($J$39:$J$43=AE10,$M$39:$M$43),IF($N$39:$N$43=AE10,$Q$39:$Q$43),IF($R$39:$R$43=AE10,$U$39:$U$43),IF($V$39:$V$43=AE10,$Y$39:$Y$43),IF($Z$39:$Z$43=AE10,$AC$39:$AC$43), IF($B$47:$B$51=AE10,$E$47:$E$51),IF($F$47:$F$51=AE10,$I$47:$I$51),IF($J$47:$J$51=AE10,$M$47:$M$51),IF($N$47:$N$51=AE10,$Q$47:$Q$51),IF($R$47:$R$51=AE10,$U$47:$U$51),IF($V$47:$V$51=AE10,$Y$47:$Y$51),IF($Z$47:$Z$51=AE10,$AC$47:$AC$51))} -> 0
AE11: 5 | AG11: ='Budget 2026'!C66 -> Recreation | AH11: {=SUM(IF($B$7:$B$11=AE11,$E$7:$E$11),IF($F$7:$F$11=AE11,$I$7:$I$11),IF($J$7:$J$11=AE11,$M$7:$M$11),IF($N$7:$N$11=AE11,$Q$7:$Q$11),IF($R$7:$R$11=AE11,$U$7:$U$11),IF($V$7:$V$11=AE11,$Y$7:$Y$11),IF($Z$7:$Z$11=AE11,$AC$7:$AC$11), IF($B$15:$B$19=AE11,$E$15:$E$19),IF($F$15:$F$19=AE11,$I$15:$I$19),IF($J$15:$J$19=AE11,$M$15:$M$19),IF($N$15:$N$19=AE11,$Q$15:$Q$19),IF($R$15:$R$19=AE11,$U$15:$U$19),IF($V$15:$V$19=AE11,$Y$15:$Y$19),IF($Z$15:$Z$19=AE11,$AC$15:$AC$19), IF($B$23:$B$27=AE11,$E$23:$E$27),IF($F$23:$F$27=AE11,$I$23:$I$27),IF($J$23:$J$27=AE11,$M$23:$M$27),IF($N$23:$N$27=AE11,$Q$23:$Q$27),IF($R$23:$R$27=AE11,$U$23:$U$27),IF($V$23:$V$27=AE11,$Y$23:$Y$27),IF($Z$23:$Z$27=AE11,$AC$23:$AC$27), IF($B$31:$B$35=AE11,$E$31:$E$35),IF($F$31:$F$35=AE11,$I$31:$I$35),IF($J$31:$J$35=AE11,$M$31:$M$35),IF($N$31:$N$35=AE11,$Q$31:$Q$35),IF($R$31:$R$35=AE11,$U$31:$U$35),IF($V$31:$V$35=AE11,$Y$31:$Y$35),IF($Z$31:$Z$35=AE11,$AC$31:$AC$35), IF($B$39:$B$43=AE11,$E$39:$E$43),IF($F$39:$F$43=AE11,$I$39:$I$43),IF($J$39:$J$43=AE11,$M$39:$M$43),IF($N$39:$N$43=AE11,$Q$39:$Q$43),IF($R$39:$R$43=AE11,$U$39:$U$43),IF($V$39:$V$43=AE11,$Y$39:$Y$43),IF($Z$39:$Z$43=AE11,$AC$39:$AC$43), IF($B$47:$B$51=AE11,$E$47:$E$51),IF($F$47:$F$51=AE11,$I$47:$I$51),IF($J$47:$J$51=AE11,$M$47:$M$51),IF($N$47:$N$51=AE11,$Q$47:$Q$51),IF($R$47:$R$51=AE11,$U$47:$U$51),IF($V$47:$V$51=AE11,$Y$47:$Y$51),IF($Z$47:$Z$51=AE11,$AC$47:$AC$51))} -> 0
B12: 28 | D12: Checking | E12: {=E2+SUM(IF(C7:C11=1,E7:E11))} -> 0 | F12: =B12+1 -> 29 | H12: Checking | I12: {=E12+SUM(IF(G7:G11=1,I7:I11))} -> 0 | J12: =F12+1 -> 30 | L12: Checking | M12: {=I12+SUM(IF(K7:K11=1,M7:M11))} -> 0 | N12: =J12+1 -> 31 | P12: Checking | Q12: {=M12+SUM(IF(O7:O11=1,Q7:Q11))} -> 0 | R12: 1 | T12: Checking | U12: {=Q12+SUM(IF(S7:S11=1,U7:U11))} -> 0 | V12: =R12+1 -> 2 | X12: Checking | Y12: {=U12+SUM(IF(W7:W11=1,Y7:Y11))} -> 0 | Z12: =V12+1 -> 3 | AB12: Checking | AC12: {=Y12+SUM(IF(AA7:AA11=1,AC7:AC11))} -> 0 | AE12: 6 | AG12: ='Budget 2026'!C67 -> Work Exp | AH12: {=SUM(IF($B$7:$B$11=AE12,$E$7:$E$11),IF($F$7:$F$11=AE12,$I$7:$I$11),IF($J$7:$J$11=AE12,$M$7:$M$11),IF($N$7:$N$11=AE12,$Q$7:$Q$11),IF($R$7:$R$11=AE12,$U$7:$U$11),IF($V$7:$V$11=AE12,$Y$7:$Y$11),IF($Z$7:$Z$11=AE12,$AC$7:$AC$11), IF($B$15:$B$19=AE12,$E$15:$E$19),IF($F$15:$F$19=AE12,$I$15:$I$19),IF($J$15:$J$19=AE12,$M$15:$M$19),IF($N$15:$N$19=AE12,$Q$15:$Q$19),IF($R$15:$R$19=AE12,$U$15:$U$19),IF($V$15:$V$19=AE12,$Y$15:$Y$19),IF($Z$15:$Z$19=AE12,$AC$15:$AC$19), IF($B$23:$B$27=AE12,$E$23:$E$27),IF($F$23:$F$27=AE12,$I$23:$I$27),IF($J$23:$J$27=AE12,$M$23:$M$27),IF($N$23:$N$27=AE12,$Q$23:$Q$27),IF($R$23:$R$27=AE12,$U$23:$U$27),IF($V$23:$V$27=AE12,$Y$23:$Y$27),IF($Z$23:$Z$27=AE12,$AC$23:$AC$27), IF($B$31:$B$35=AE12,$E$31:$E$35),IF($F$31:$F$35=AE12,$I$31:$I$35),IF($J$31:$J$35=AE12,$M$31:$M$35),IF($N$31:$N$35=AE12,$Q$31:$Q$35),IF($R$31:$R$35=AE12,$U$31:$U$35),IF($V$31:$V$35=AE12,$Y$31:$Y$35),IF($Z$31:$Z$35=AE12,$AC$31:$AC$35), IF($B$39:$B$43=AE12,$E$39:$E$43),IF($F$39:$F$43=AE12,$I$39:$I$43),IF($J$39:$J$43=AE12,$M$39:$M$43),IF($N$39:$N$43=AE12,$Q$39:$Q$43),IF($R$39:$R$43=AE12,$U$39:$U$43),IF($V$39:$V$43=AE12,$Y$39:$Y$43),IF($Z$39:$Z$43=AE12,$AC$39:$AC$43), IF($B$47:$B$51=AE12,$E$47:$E$51),IF($F$47:$F$51=AE12,$I$47:$I$51),IF($J$47:$J$51=AE12,$M$47:$M$51),IF($N$47:$N$51=AE12,$Q$47:$Q$51),IF($R$47:$R$51=AE12,$U$47:$U$51),IF($V$47:$V$51=AE12,$Y$47:$Y$51),IF($Z$47:$Z$51=AE12,$AC$47:$AC$51))} -> 0
D13: Savings | E13: {=E3+SUM(IF(C7:C11=2,E7:E11))-SUM(IF(B7:B11={33},E7:E11))} -> 100 | H13: Savings | I13: {=E13+SUM(IF(G7:G11=2,I7:I11))-SUM(IF(F7:F11={33},I7:I11))} -> 100 | L13: Savings | M13: {=I13+SUM(IF(K7:K11=2,M7:M11))-SUM(IF(J7:J11={33},M7:M11))} -> 100 | P13: Savings | Q13: {=M13+SUM(IF(O7:O11=2,Q7:Q11))-SUM(IF(N7:N11={33},Q7:Q11))} -> 100 | T13: Savings | U13: {=Q13+SUM(IF(S7:S11=2,U7:U11))-SUM(IF(R7:R11={33},U7:U11))} -> 100 | X13: Savings | Y13: {=U13+SUM(IF(W7:W11=2,Y7:Y11))-SUM(IF(V7:V11={33},Y7:Y11))} -> 100 | AB13: Savings | AC13: {=Y13+SUM(IF(AA7:AA11=2,AC7:AC11))-SUM(IF(Z7:Z11={33},AC7:AC11))} -> 100 | AE13: 7 | AG13: ='Budget 2026'!C70 -> Rent / 1st Mortgage | AH13: {=SUM(IF($B$7:$B$11=AE13,$E$7:$E$11),IF($F$7:$F$11=AE13,$I$7:$I$11),IF($J$7:$J$11=AE13,$M$7:$M$11),IF($N$7:$N$11=AE13,$Q$7:$Q$11),IF($R$7:$R$11=AE13,$U$7:$U$11),IF($V$7:$V$11=AE13,$Y$7:$Y$11),IF($Z$7:$Z$11=AE13,$AC$7:$AC$11), IF($B$15:$B$19=AE13,$E$15:$E$19),IF($F$15:$F$19=AE13,$I$15:$I$19),IF($J$15:$J$19=AE13,$M$15:$M$19),IF($N$15:$N$19=AE13,$Q$15:$Q$19),IF($R$15:$R$19=AE13,$U$15:$U$19),IF($V$15:$V$19=AE13,$Y$15:$Y$19),IF($Z$15:$Z$19=AE13,$AC$15:$AC$19), IF($B$23:$B$27=AE13,$E$23:$E$27),IF($F$23:$F$27=AE13,$I$23:$I$27),IF($J$23:$J$27=AE13,$M$23:$M$27),IF($N$23:$N$27=AE13,$Q$23:$Q$27),IF($R$23:$R$27=AE13,$U$23:$U$27),IF($V$23:$V$27=AE13,$Y$23:$Y$27),IF($Z$23:$Z$27=AE13,$AC$23:$AC$27), IF($B$31:$B$35=AE13,$E$31:$E$35),IF($F$31:$F$35=AE13,$I$31:$I$35),IF($J$31:$J$35=AE13,$M$31:$M$35),IF($N$31:$N$35=AE13,$Q$31:$Q$35),IF($R$31:$R$35=AE13,$U$31:$U$35),IF($V$31:$V$35=AE13,$Y$31:$Y$35),IF($Z$31:$Z$35=AE13,$AC$31:$AC$35), IF($B$39:$B$43=AE13,$E$39:$E$43),IF($F$39:$F$43=AE13,$I$39:$I$43),IF($J$39:$J$43=AE13,$M$39:$M$43),IF($N$39:$N$43=AE13,$Q$39:$Q$43),IF($R$39:$R$43=AE13,$U$39:$U$43),IF($V$39:$V$43=AE13,$Y$39:$Y$43),IF($Z$39:$Z$43=AE13,$AC$39:$AC$43), IF($B$47:$B$51=AE13,$E$47:$E$51),IF($F$47:$F$51=AE13,$I$47:$I$51),IF($J$47:$J$51=AE13,$M$47:$M$51),IF($N$47:$N$51=AE13,$Q$47:$Q$51),IF($R$47:$R$51=AE13,$U$47:$U$51),IF($V$47:$V$51=AE13,$Y$47:$Y$51),IF($Z$47:$Z$51=AE13,$AC$47:$AC$51))} -> 0
D14: Credit | E14: {=E4+SUM(IF(C7:C11=3,E7:E11))-SUM(IF(B7:B11={34},E7:E11))} -> -100 | H14: Credit | I14: {=E14+SUM(IF(G7:G11=3,I7:I11))-SUM(IF(F7:F11={34},I7:I11))} -> -100 | L14: Credit | M14: {=I14+SUM(IF(K7:K11=3,M7:M11))-SUM(IF(J7:J11={34},M7:M11))} -> -100 | P14: Credit | Q14: {=M14+SUM(IF(O7:O11=3,Q7:Q11))-SUM(IF(N7:N11={34},Q7:Q11))} -> -100 | T14: Credit | U14: {=Q14+SUM(IF(S7:S11=3,U7:U11))-SUM(IF(R7:R11={34},U7:U11))} -> -100 | X14: Credit | Y14: {=U14+SUM(IF(W7:W11=3,Y7:Y11))-SUM(IF(V7:V11={34},Y7:Y11))} -> -100 | AB14: Credit | AC14: {=Y14+SUM(IF(AA7:AA11=3,AC7:AC11))-SUM(IF(Z7:Z11={34},AC7:AC11))} -> -100 | AE14: 8 | AG14: ='Budget 2026'!C71 -> 2nd Mortgage | AH14: {=SUM(IF($B$7:$B$11=AE14,$E$7:$E$11),IF($F$7:$F$11=AE14,$I$7:$I$11),IF($J$7:$J$11=AE14,$M$7:$M$11),IF($N$7:$N$11=AE14,$Q$7:$Q$11),IF($R$7:$R$11=AE14,$U$7:$U$11),IF($V$7:$V$11=AE14,$Y$7:$Y$11),IF($Z$7:$Z$11=AE14,$AC$7:$AC$11), IF($B$15:$B$19=AE14,$E$15:$E$19),IF($F$15:$F$19=AE14,$I$15:$I$19),IF($J$15:$J$19=AE14,$M$15:$M$19),IF($N$15:$N$19=AE14,$Q$15:$Q$19),IF($R$15:$R$19=AE14,$U$15:$U$19),IF($V$15:$V$19=AE14,$Y$15:$Y$19),IF($Z$15:$Z$19=AE14,$AC$15:$AC$19), IF($B$23:$B$27=AE14,$E$23:$E$27),IF($F$23:$F$27=AE14,$I$23:$I$27),IF($J$23:$J$27=AE14,$M$23:$M$27),IF($N$23:$N$27=AE14,$Q$23:$Q$27),IF($R$23:$R$27=AE14,$U$23:$U$27),IF($V$23:$V$27=AE14,$Y$23:$Y$27),IF($Z$23:$Z$27=AE14,$AC$23:$AC$27), IF($B$31:$B$35=AE14,$E$31:$E$35),IF($F$31:$F$35=AE14,$I$31:$I$35),IF($J$31:$J$35=AE14,$M$31:$M$35),IF($N$31:$N$35=AE14,$Q$31:$Q$35),IF($R$31:$R$35=AE14,$U$31:$U$35),IF($V$31:$V$35=AE14,$Y$31:$Y$35),IF($Z$31:$Z$35=AE14,$AC$31:$AC$35), IF($B$39:$B$43=AE14,$E$39:$E$43),IF($F$39:$F$43=AE14,$I$39:$I$43),IF($J$39:$J$43=AE14,$M$39:$M$43),IF($N$39:$N$43=AE14,$Q$39:$Q$43),IF($R$39:$R$43=AE14,$U$39:$U$43),IF($V$39:$V$43=AE14,$Y$39:$Y$43),IF($Z$39:$Z$43=AE14,$AC$39:$AC$43), IF($B$47:$B$51=AE14,$E$47:$E$51),IF($F$47:$F$51=AE14,$I$47:$I$51),IF($J$47:$J$51=AE14,$M$47:$M$51),IF($N$47:$N$51=AE14,$Q$47:$Q$51),IF($R$47:$R$51=AE14,$U$47:$U$51),IF($V$47:$V$51=AE14,$Y$47:$Y$51),IF($Z$47:$Z$51=AE14,$AC$47:$AC$51))} -> 0
AE15: 9 | AG15: ='Budget 2026'!C72 -> HOA Assesments | AH15: {=SUM(IF($B$7:$B$11=AE15,$E$7:$E$11),IF($F$7:$F$11=AE15,$I$7:$I$11),IF($J$7:$J$11=AE15,$M$7:$M$11),IF($N$7:$N$11=AE15,$Q$7:$Q$11),IF($R$7:$R$11=AE15,$U$7:$U$11),IF($V$7:$V$11=AE15,$Y$7:$Y$11),IF($Z$7:$Z$11=AE15,$AC$7:$AC$11), IF($B$15:$B$19=AE15,$E$15:$E$19),IF($F$15:$F$19=AE15,$I$15:$I$19),IF($J$15:$J$19=AE15,$M$15:$M$19),IF($N$15:$N$19=AE15,$Q$15:$Q$19),IF($R$15:$R$19=AE15,$U$15:$U$19),IF($V$15:$V$19=AE15,$Y$15:$Y$19),IF($Z$15:$Z$19=AE15,$AC$15:$AC$19), IF($B$23:$B$27=AE15,$E$23:$E$27),IF($F$23:$F$27=AE15,$I$23:$I$27),IF($J$23:$J$27=AE15,$M$23:$M$27),IF($N$23:$N$27=AE15,$Q$23:$Q$27),IF($R$23:$R$27=AE15,$U$23:$U$27),IF($V$23:$V$27=AE15,$Y$23:$Y$27),IF($Z$23:$Z$27=AE15,$AC$23:$AC$27), IF($B$31:$B$35=AE15,$E$31:$E$35),IF($F$31:$F$35=AE15,$I$31:$I$35),IF($J$31:$J$35=AE15,$M$31:$M$35),IF($N$31:$N$35=AE15,$Q$31:$Q$35),IF($R$31:$R$35=AE15,$U$31:$U$35),IF($V$31:$V$35=AE15,$Y$31:$Y$35),IF($Z$31:$Z$35=AE15,$AC$31:$AC$35), IF($B$39:$B$43=AE15,$E$39:$E$43),IF($F$39:$F$43=AE15,$I$39:$I$43),IF($J$39:$J$43=AE15,$M$39:$M$43),IF($N$39:$N$43=AE15,$Q$39:$Q$43),IF($R$39:$R$43=AE15,$U$39:$U$43),IF($V$39:$V$43=AE15,$Y$39:$Y$43),IF($Z$39:$Z$43=AE15,$AC$39:$AC$43), IF($B$47:$B$51=AE15,$E$47:$E$51),IF($F$47:$F$51=AE15,$I$47:$I$51),IF($J$47:$J$51=AE15,$M$47:$M$51),IF($N$47:$N$51=AE15,$Q$47:$Q$51),IF($R$47:$R$51=AE15,$U$47:$U$51),IF($V$47:$V$51=AE15,$Y$47:$Y$51),IF($Z$47:$Z$51=AE15,$AC$47:$AC$51))} -> 0
AE16: 10 | AG16: ='Budget 2026'!C73 -> DayCare/School | AH16: {=SUM(IF($B$7:$B$11=AE16,$E$7:$E$11),IF($F$7:$F$11=AE16,$I$7:$I$11),IF($J$7:$J$11=AE16,$M$7:$M$11),IF($N$7:$N$11=AE16,$Q$7:$Q$11),IF($R$7:$R$11=AE16,$U$7:$U$11),IF($V$7:$V$11=AE16,$Y$7:$Y$11),IF($Z$7:$Z$11=AE16,$AC$7:$AC$11), IF($B$15:$B$19=AE16,$E$15:$E$19),IF($F$15:$F$19=AE16,$I$15:$I$19),IF($J$15:$J$19=AE16,$M$15:$M$19),IF($N$15:$N$19=AE16,$Q$15:$Q$19),IF($R$15:$R$19=AE16,$U$15:$U$19),IF($V$15:$V$19=AE16,$Y$15:$Y$19),IF($Z$15:$Z$19=AE16,$AC$15:$AC$19), IF($B$23:$B$27=AE16,$E$23:$E$27),IF($F$23:$F$27=AE16,$I$23:$I$27),IF($J$23:$J$27=AE16,$M$23:$M$27),IF($N$23:$N$27=AE16,$Q$23:$Q$27),IF($R$23:$R$27=AE16,$U$23:$U$27),IF($V$23:$V$27=AE16,$Y$23:$Y$27),IF($Z$23:$Z$27=AE16,$AC$23:$AC$27), IF($B$31:$B$35=AE16,$E$31:$E$35),IF($F$31:$F$35=AE16,$I$31:$I$35),IF($J$31:$J$35=AE16,$M$31:$M$35),IF($N$31:$N$35=AE16,$Q$31:$Q$35),IF($R$31:$R$35=AE16,$U$31:$U$35),IF($V$31:$V$35=AE16,$Y$31:$Y$35),IF($Z$31:$Z$35=AE16,$AC$31:$AC$35), IF($B$39:$B$43=AE16,$E$39:$E$43),IF($F$39:$F$43=AE16,$I$39:$I$43),IF($J$39:$J$43=AE16,$M$39:$M$43),IF($N$39:$N$43=AE16,$Q$39:$Q$43),IF($R$39:$R$43=AE16,$U$39:$U$43),IF($V$39:$V$43=AE16,$Y$39:$Y$43),IF($Z$39:$Z$43=AE16,$AC$39:$AC$43), IF($B$47:$B$51=AE16,$E$47:$E$51),IF($F$47:$F$51=AE16,$I$47:$I$51),IF($J$47:$J$51=AE16,$M$47:$M$51),IF($N$47:$N$51=AE16,$Q$47:$Q$51),IF($R$47:$R$51=AE16,$U$47:$U$51),IF($V$47:$V$51=AE16,$Y$47:$Y$51),IF($Z$47:$Z$51=AE16,$AC$47:$AC$51))} -> 0
AE17: 11 | AG17: ='Budget 2026'!C74 -> Student Loans | AH17: {=SUM(IF($B$7:$B$11=AE17,$E$7:$E$11),IF($F$7:$F$11=AE17,$I$7:$I$11),IF($J$7:$J$11=AE17,$M$7:$M$11),IF($N$7:$N$11=AE17,$Q$7:$Q$11),IF($R$7:$R$11=AE17,$U$7:$U$11),IF($V$7:$V$11=AE17,$Y$7:$Y$11),IF($Z$7:$Z$11=AE17,$AC$7:$AC$11), IF($B$15:$B$19=AE17,$E$15:$E$19),IF($F$15:$F$19=AE17,$I$15:$I$19),IF($J$15:$J$19=AE17,$M$15:$M$19),IF($N$15:$N$19=AE17,$Q$15:$Q$19),IF($R$15:$R$19=AE17,$U$15:$U$19),IF($V$15:$V$19=AE17,$Y$15:$Y$19),IF($Z$15:$Z$19=AE17,$AC$15:$AC$19), IF($B$23:$B$27=AE17,$E$23:$E$27),IF($F$23:$F$27=AE17,$I$23:$I$27),IF($J$23:$J$27=AE17,$M$23:$M$27),IF($N$23:$N$27=AE17,$Q$23:$Q$27),IF($R$23:$R$27=AE17,$U$23:$U$27),IF($V$23:$V$27=AE17,$Y$23:$Y$27),IF($Z$23:$Z$27=AE17,$AC$23:$AC$27), IF($B$31:$B$35=AE17,$E$31:$E$35),IF($F$31:$F$35=AE17,$I$31:$I$35),IF($J$31:$J$35=AE17,$M$31:$M$35),IF($N$31:$N$35=AE17,$Q$31:$Q$35),IF($R$31:$R$35=AE17,$U$31:$U$35),IF($V$31:$V$35=AE17,$Y$31:$Y$35),IF($Z$31:$Z$35=AE17,$AC$31:$AC$35), IF($B$39:$B$43=AE17,$E$39:$E$43),IF($F$39:$F$43=AE17,$I$39:$I$43),IF($J$39:$J$43=AE17,$M$39:$M$43),IF($N$39:$N$43=AE17,$Q$39:$Q$43),IF($R$39:$R$43=AE17,$U$39:$U$43),IF($V$39:$V$43=AE17,$Y$39:$Y$43),IF($Z$39:$Z$43=AE17,$AC$39:$AC$43), IF($B$47:$B$51=AE17,$E$47:$E$51),IF($F$47:$F$51=AE17,$I$47:$I$51),IF($J$47:$J$51=AE17,$M$47:$M$51),IF($N$47:$N$51=AE17,$Q$47:$Q$51),IF($R$47:$R$51=AE17,$U$47:$U$51),IF($V$47:$V$51=AE17,$Y$47:$Y$51),IF($Z$47:$Z$51=AE17,$AC$47:$AC$51))} -> 0
AE18: 12 | AG18: ='Budget 2026'!C75 -> Natural Gas Bill | AH18: {=SUM(IF($B$7:$B$11=AE18,$E$7:$E$11),IF($F$7:$F$11=AE18,$I$7:$I$11),IF($J$7:$J$11=AE18,$M$7:$M$11),IF($N$7:$N$11=AE18,$Q$7:$Q$11),IF($R$7:$R$11=AE18,$U$7:$U$11),IF($V$7:$V$11=AE18,$Y$7:$Y$11),IF($Z$7:$Z$11=AE18,$AC$7:$AC$11), IF($B$15:$B$19=AE18,$E$15:$E$19),IF($F$15:$F$19=AE18,$I$15:$I$19),IF($J$15:$J$19=AE18,$M$15:$M$19),IF($N$15:$N$19=AE18,$Q$15:$Q$19),IF($R$15:$R$19=AE18,$U$15:$U$19),IF($V$15:$V$19=AE18,$Y$15:$Y$19),IF($Z$15:$Z$19=AE18,$AC$15:$AC$19), IF($B$23:$B$27=AE18,$E$23:$E$27),IF($F$23:$F$27=AE18,$I$23:$I$27),IF($J$23:$J$27=AE18,$M$23:$M$27),IF($N$23:$N$27=AE18,$Q$23:$Q$27),IF($R$23:$R$27=AE18,$U$23:$U$27),IF($V$23:$V$27=AE18,$Y$23:$Y$27),IF($Z$23:$Z$27=AE18,$AC$23:$AC$27), IF($B$31:$B$35=AE18,$E$31:$E$35),IF($F$31:$F$35=AE18,$I$31:$I$35),IF($J$31:$J$35=AE18,$M$31:$M$35),IF($N$31:$N$35=AE18,$Q$31:$Q$35),IF($R$31:$R$35=AE18,$U$31:$U$35),IF($V$31:$V$35=AE18,$Y$31:$Y$35),IF($Z$31:$Z$35=AE18,$AC$31:$AC$35), IF($B$39:$B$43=AE18,$E$39:$E$43),IF($F$39:$F$43=AE18,$I$39:$I$43),IF($J$39:$J$43=AE18,$M$39:$M$43),IF($N$39:$N$43=AE18,$Q$39:$Q$43),IF($R$39:$R$43=AE18,$U$39:$U$43),IF($V$39:$V$43=AE18,$Y$39:$Y$43),IF($Z$39:$Z$43=AE18,$AC$39:$AC$43), IF($B$47:$B$51=AE18,$E$47:$E$51),IF($F$47:$F$51=AE18,$I$47:$I$51),IF($J$47:$J$51=AE18,$M$47:$M$51),IF($N$47:$N$51=AE18,$Q$47:$Q$51),IF($R$47:$R$51=AE18,$U$47:$U$51),IF($V$47:$V$51=AE18,$Y$47:$Y$51),IF($Z$47:$Z$51=AE18,$AC$47:$AC$51))} -> 0
AE19: 13 | AG19: ='Budget 2026'!C76 -> Water Bill | AH19: {=SUM(IF($B$7:$B$11=AE19,$E$7:$E$11),IF($F$7:$F$11=AE19,$I$7:$I$11),IF($J$7:$J$11=AE19,$M$7:$M$11),IF($N$7:$N$11=AE19,$Q$7:$Q$11),IF($R$7:$R$11=AE19,$U$7:$U$11),IF($V$7:$V$11=AE19,$Y$7:$Y$11),IF($Z$7:$Z$11=AE19,$AC$7:$AC$11), IF($B$15:$B$19=AE19,$E$15:$E$19),IF($F$15:$F$19=AE19,$I$15:$I$19),IF($J$15:$J$19=AE19,$M$15:$M$19),IF($N$15:$N$19=AE19,$Q$15:$Q$19),IF($R$15:$R$19=AE19,$U$15:$U$19),IF($V$15:$V$19=AE19,$Y$15:$Y$19),IF($Z$15:$Z$19=AE19,$AC$15:$AC$19), IF($B$23:$B$27=AE19,$E$23:$E$27),IF($F$23:$F$27=AE19,$I$23:$I$27),IF($J$23:$J$27=AE19,$M$23:$M$27),IF($N$23:$N$27=AE19,$Q$23:$Q$27),IF($R$23:$R$27=AE19,$U$23:$U$27),IF($V$23:$V$27=AE19,$Y$23:$Y$27),IF($Z$23:$Z$27=AE19,$AC$23:$AC$27), IF($B$31:$B$35=AE19,$E$31:$E$35),IF($F$31:$F$35=AE19,$I$31:$I$35),IF($J$31:$J$35=AE19,$M$31:$M$35),IF($N$31:$N$35=AE19,$Q$31:$Q$35),IF($R$31:$R$35=AE19,$U$31:$U$35),IF($V$31:$V$35=AE19,$Y$31:$Y$35),IF($Z$31:$Z$35=AE19,$AC$31:$AC$35), IF($B$39:$B$43=AE19,$E$39:$E$43),IF($F$39:$F$43=AE19,$I$39:$I$43),IF($J$39:$J$43=AE19,$M$39:$M$43),IF($N$39:$N$43=AE19,$Q$39:$Q$43),IF($R$39:$R$43=AE19,$U$39:$U$43),IF($V$39:$V$43=AE19,$Y$39:$Y$43),IF($Z$39:$Z$43=AE19,$AC$39:$AC$43), IF($B$47:$B$51=AE19,$E$47:$E$51),IF($F$47:$F$51=AE19,$I$47:$I$51),IF($J$47:$J$51=AE19,$M$47:$M$51),IF($N$47:$N$51=AE19,$Q$47:$Q$51),IF($R$47:$R$51=AE19,$U$47:$U$51),IF($V$47:$V$51=AE19,$Y$47:$Y$51),IF($Z$47:$Z$51=AE19,$AC$47:$AC$51))} -> 0
B20: =Z12+1 -> 4 | D20: Checking | E20: {=AC12+SUM(IF(C15:C19=1,E15:E19))} -> 0 | F20: =B20+1 -> 5 | H20: Checking | I20: {=E20+SUM(IF(G15:G19=1,I15:I19))} -> 0 | J20: =F20+1 -> 6 | L20: Checking | M20: {=I20+SUM(IF(K15:K19=1,M15:M19))} -> 0 | N20: =J20+1 -> 7 | P20: Checking | Q20: {=M20+SUM(IF(O15:O19=1,Q15:Q19))} -> 0 | R20: =N20+1 -> 8 | T20: Checking | U20: {=Q20+SUM(IF(S15:S19=1,U15:U19))} -> 0 | V20: =R20+1 -> 9 | X20: Checking | Y20: {=U20+SUM(IF(W15:W19=1,Y15:Y19))} -> 0 | Z20: =V20+1 -> 10 | AB20: Checking | AC20: {=Y20+SUM(IF(AA15:AA19=1,AC15:AC19))} -> 0 | AE20: 14 | AG20: ='Budget 2026'!C77 -> Electric Bill | AH20: {=SUM(IF($B$7:$B$11=AE20,$E$7:$E$11),IF($F$7:$F$11=AE20,$I$7:$I$11),IF($J$7:$J$11=AE20,$M$7:$M$11),IF($N$7:$N$11=AE20,$Q$7:$Q$11),IF($R$7:$R$11=AE20,$U$7:$U$11),IF($V$7:$V$11=AE20,$Y$7:$Y$11),IF($Z$7:$Z$11=AE20,$AC$7:$AC$11), IF($B$15:$B$19=AE20,$E$15:$E$19),IF($F$15:$F$19=AE20,$I$15:$I$19),IF($J$15:$J$19=AE20,$M$15:$M$19),IF($N$15:$N$19=AE20,$Q$15:$Q$19),IF($R$15:$R$19=AE20,$U$15:$U$19),IF($V$15:$V$19=AE20,$Y$15:$Y$19),IF($Z$15:$Z$19=AE20,$AC$15:$AC$19), IF($B$23:$B$27=AE20,$E$23:$E$27),IF($F$23:$F$27=AE20,$I$23:$I$27),IF($J$23:$J$27=AE20,$M$23:$M$27),IF($N$23:$N$27=AE20,$Q$23:$Q$27),IF($R$23:$R$27=AE20,$U$23:$U$27),IF($V$23:$V$27=AE20,$Y$23:$Y$27),IF($Z$23:$Z$27=AE20,$AC$23:$AC$27), IF($B$31:$B$35=AE20,$E$31:$E$35),IF($F$31:$F$35=AE20,$I$31:$I$35),IF($J$31:$J$35=AE20,$M$31:$M$35),IF($N$31:$N$35=AE20,$Q$31:$Q$35),IF($R$31:$R$35=AE20,$U$31:$U$35),IF($V$31:$V$35=AE20,$Y$31:$Y$35),IF($Z$31:$Z$35=AE20,$AC$31:$AC$35), IF($B$39:$B$43=AE20,$E$39:$E$43),IF($F$39:$F$43=AE20,$I$39:$I$43),IF($J$39:$J$43=AE20,$M$39:$M$43),IF($N$39:$N$43=AE20,$Q$39:$Q$43),IF($R$39:$R$43=AE20,$U$39:$U$43),IF($V$39:$V$43=AE20,$Y$39:$Y$43),IF($Z$39:$Z$43=AE20,$AC$39:$AC$43), IF($B$47:$B$51=AE20,$E$47:$E$51),IF($F$47:$F$51=AE20,$I$47:$I$51),IF($J$47:$J$51=AE20,$M$47:$M$51),IF($N$47:$N$51=AE20,$Q$47:$Q$51),IF($R$47:$R$51=AE20,$U$47:$U$51),IF($V$47:$V$51=AE20,$Y$47:$Y$51),IF($Z$47:$Z$51=AE20,$AC$47:$AC$51))} -> 0
D21: Savings | E21: {=AC13+SUM(IF(C15:C19=2,E15:E19))-SUM(IF(B15:B19={33},E15:E19))} -> 100 | H21: Savings | I21: {=E21+SUM(IF(G15:G19=2,I15:I19))-SUM(IF(F15:F19={33},I15:I19))} -> 100 | L21: Savings | M21: {=I21+SUM(IF(K15:K19=2,M15:M19))-SUM(IF(J15:J19={33},M15:M19))} -> 100 | P21: Savings | Q21: {=M21+SUM(IF(O15:O19=2,Q15:Q19))-SUM(IF(N15:N19={33},Q15:Q19))} -> 100 | T21: Savings | U21: {=Q21+SUM(IF(S15:S19=2,U15:U19))-SUM(IF(R15:R19={33},U15:U19))} -> 100 | X21: Savings | Y21: {=U21+SUM(IF(W15:W19=2,Y15:Y19))-SUM(IF(V15:V19={33},Y15:Y19))} -> 100 | AB21: Savings | AC21: {=Y21+SUM(IF(AA15:AA19=2,AC15:AC19))-SUM(IF(Z15:Z19={33},AC15:AC19))} -> 100 | AE21: 15 | AG21: ='Budget 2026'!C78 -> Garbage Service | AH21: {=SUM(IF($B$7:$B$11=AE21,$E$7:$E$11),IF($F$7:$F$11=AE21,$I$7:$I$11),IF($J$7:$J$11=AE21,$M$7:$M$11),IF($N$7:$N$11=AE21,$Q$7:$Q$11),IF($R$7:$R$11=AE21,$U$7:$U$11),IF($V$7:$V$11=AE21,$Y$7:$Y$11),IF($Z$7:$Z$11=AE21,$AC$7:$AC$11), IF($B$15:$B$19=AE21,$E$15:$E$19),IF($F$15:$F$19=AE21,$I$15:$I$19),IF($J$15:$J$19=AE21,$M$15:$M$19),IF($N$15:$N$19=AE21,$Q$15:$Q$19),IF($R$15:$R$19=AE21,$U$15:$U$19),IF($V$15:$V$19=AE21,$Y$15:$Y$19),IF($Z$15:$Z$19=AE21,$AC$15:$AC$19), IF($B$23:$B$27=AE21,$E$23:$E$27),IF($F$23:$F$27=AE21,$I$23:$I$27),IF($J$23:$J$27=AE21,$M$23:$M$27),IF($N$23:$N$27=AE21,$Q$23:$Q$27),IF($R$23:$R$27=AE21,$U$23:$U$27),IF($V$23:$V$27=AE21,$Y$23:$Y$27),IF($Z$23:$Z$27=AE21,$AC$23:$AC$27), IF($B$31:$B$35=AE21,$E$31:$E$35),IF($F$31:$F$35=AE21,$I$31:$I$35),IF($J$31:$J$35=AE21,$M$31:$M$35),IF($N$31:$N$35=AE21,$Q$31:$Q$35),IF($R$31:$R$35=AE21,$U$31:$U$35),IF($V$31:$V$35=AE21,$Y$31:$Y$35),IF($Z$31:$Z$35=AE21,$AC$31:$AC$35), IF($B$39:$B$43=AE21,$E$39:$E$43),IF($F$39:$F$43=AE21,$I$39:$I$43),IF($J$39:$J$43=AE21,$M$39:$M$43),IF($N$39:$N$43=AE21,$Q$39:$Q$43),IF($R$39:$R$43=AE21,$U$39:$U$43),IF($V$39:$V$43=AE21,$Y$39:$Y$43),IF($Z$39:$Z$43=AE21,$AC$39:$AC$43), IF($B$47:$B$51=AE21,$E$47:$E$51),IF($F$47:$F$51=AE21,$I$47:$I$51),IF($J$47:$J$51=AE21,$M$47:$M$51),IF($N$47:$N$51=AE21,$Q$47:$Q$51),IF($R$47:$R$51=AE21,$U$47:$U$51),IF($V$47:$V$51=AE21,$Y$47:$Y$51),IF($Z$47:$Z$51=AE21,$AC$47:$AC$51))} -> 0
D22: Credit | E22: {=AC14+SUM(IF(C15:C19=3,E15:E19))-SUM(IF(B15:B19={34},E15:E19))} -> -100 | H22: Credit | I22: {=E22+SUM(IF(G15:G19=3,I15:I19))-SUM(IF(F15:F19={34},I15:I19))} -> -100 | L22: Credit | M22: {=I22+SUM(IF(K15:K19=3,M15:M19))-SUM(IF(J15:J19={34},M15:M19))} -> -100 | P22: Credit | Q22: {=M22+SUM(IF(O15:O19=3,Q15:Q19))-SUM(IF(N15:N19={34},Q15:Q19))} -> -100 | T22: Credit | U22: {=Q22+SUM(IF(S15:S19=3,U15:U19))-SUM(IF(R15:R19={34},U15:U19))} -> -100 | X22: Credit | Y22: {=U22+SUM(IF(W15:W19=3,Y15:Y19))-SUM(IF(V15:V19={34},Y15:Y19))} -> -100 | AB22: Credit | AC22: {=Y22+SUM(IF(AA15:AA19=3,AC15:AC19))-SUM(IF(Z15:Z19={34},AC15:AC19))} -> -100 | AE22: 16 | AG22: ='Budget 2026'!C79 -> Parking Expenses | AH22: {=SUM(IF($B$7:$B$11=AE22,$E$7:$E$11),IF($F$7:$F$11=AE22,$I$7:$I$11),IF($J$7:$J$11=AE22,$M$7:$M$11),IF($N$7:$N$11=AE22,$Q$7:$Q$11),IF($R$7:$R$11=AE22,$U$7:$U$11),IF($V$7:$V$11=AE22,$Y$7:$Y$11),IF($Z$7:$Z$11=AE22,$AC$7:$AC$11), IF($B$15:$B$19=AE22,$E$15:$E$19),IF($F$15:$F$19=AE22,$I$15:$I$19),IF($J$15:$J$19=AE22,$M$15:$M$19),IF($N$15:$N$19=AE22,$Q$15:$Q$19),IF($R$15:$R$19=AE22,$U$15:$U$19),IF($V$15:$V$19=AE22,$Y$15:$Y$19),IF($Z$15:$Z$19=AE22,$AC$15:$AC$19), IF($B$23:$B$27=AE22,$E$23:$E$27),IF($F$23:$F$27=AE22,$I$23:$I$27),IF($J$23:$J$27=AE22,$M$23:$M$27),IF($N$23:$N$27=AE22,$Q$23:$Q$27),IF($R$23:$R$27=AE22,$U$23:$U$27),IF($V$23:$V$27=AE22,$Y$23:$Y$27),IF($Z$23:$Z$27=AE22,$AC$23:$AC$27), IF($B$31:$B$35=AE22,$E$31:$E$35),IF($F$31:$F$35=AE22,$I$31:$I$35),IF($J$31:$J$35=AE22,$M$31:$M$35),IF($N$31:$N$35=AE22,$Q$31:$Q$35),IF($R$31:$R$35=AE22,$U$31:$U$35),IF($V$31:$V$35=AE22,$Y$31:$Y$35),IF($Z$31:$Z$35=AE22,$AC$31:$AC$35), IF($B$39:$B$43=AE22,$E$39:$E$43),IF($F$39:$F$43=AE22,$I$39:$I$43),IF($J$39:$J$43=AE22,$M$39:$M$43),IF($N$39:$N$43=AE22,$Q$39:$Q$43),IF($R$39:$R$43=AE22,$U$39:$U$43),IF($V$39:$V$43=AE22,$Y$39:$Y$43),IF($Z$39:$Z$43=AE22,$AC$39:$AC$43), IF($B$47:$B$51=AE22,$E$47:$E$51),IF($F$47:$F$51=AE22,$I$47:$I$51),IF($J$47:$J$51=AE22,$M$47:$M$51),IF($N$47:$N$51=AE22,$Q$47:$Q$51),IF($R$47:$R$51=AE22,$U$47:$U$51),IF($V$47:$V$51=AE22,$Y$47:$Y$51),IF($Z$47:$Z$51=AE22,$AC$47:$AC$51))} -> 0
AE23: 17 | AG23: ='Budget 2026'!C80 -> Transit Monthly | AH23: {=SUM(IF($B$7:$B$11=AE23,$E$7:$E$11),IF($F$7:$F$11=AE23,$I$7:$I$11),IF($J$7:$J$11=AE23,$M$7:$M$11),IF($N$7:$N$11=AE23,$Q$7:$Q$11),IF($R$7:$R$11=AE23,$U$7:$U$11),IF($V$7:$V$11=AE23,$Y$7:$Y$11),IF($Z$7:$Z$11=AE23,$AC$7:$AC$11), IF($B$15:$B$19=AE23,$E$15:$E$19),IF($F$15:$F$19=AE23,$I$15:$I$19),IF($J$15:$J$19=AE23,$M$15:$M$19),IF($N$15:$N$19=AE23,$Q$15:$Q$19),IF($R$15:$R$19=AE23,$U$15:$U$19),IF($V$15:$V$19=AE23,$Y$15:$Y$19),IF($Z$15:$Z$19=AE23,$AC$15:$AC$19), IF($B$23:$B$27=AE23,$E$23:$E$27),IF($F$23:$F$27=AE23,$I$23:$I$27),IF($J$23:$J$27=AE23,$M$23:$M$27),IF($N$23:$N$27=AE23,$Q$23:$Q$27),IF($R$23:$R$27=AE23,$U$23:$U$27),IF($V$23:$V$27=AE23,$Y$23:$Y$27),IF($Z$23:$Z$27=AE23,$AC$23:$AC$27), IF($B$31:$B$35=AE23,$E$31:$E$35),IF($F$31:$F$35=AE23,$I$31:$I$35),IF($J$31:$J$35=AE23,$M$31:$M$35),IF($N$31:$N$35=AE23,$Q$31:$Q$35),IF($R$31:$R$35=AE23,$U$31:$U$35),IF($V$31:$V$35=AE23,$Y$31:$Y$35),IF($Z$31:$Z$35=AE23,$AC$31:$AC$35), IF($B$39:$B$43=AE23,$E$39:$E$43),IF($F$39:$F$43=AE23,$I$39:$I$43),IF($J$39:$J$43=AE23,$M$39:$M$43),IF($N$39:$N$43=AE23,$Q$39:$Q$43),IF($R$39:$R$43=AE23,$U$39:$U$43),IF($V$39:$V$43=AE23,$Y$39:$Y$43),IF($Z$39:$Z$43=AE23,$AC$39:$AC$43), IF($B$47:$B$51=AE23,$E$47:$E$51),IF($F$47:$F$51=AE23,$I$47:$I$51),IF($J$47:$J$51=AE23,$M$47:$M$51),IF($N$47:$N$51=AE23,$Q$47:$Q$51),IF($R$47:$R$51=AE23,$U$47:$U$51),IF($V$47:$V$51=AE23,$Y$47:$Y$51),IF($Z$47:$Z$51=AE23,$AC$47:$AC$51))} -> 0
AE24: 18 | AG24: ='Budget 2026'!C81 -> Land Line Phone Bill | AH24: {=SUM(IF($B$7:$B$11=AE24,$E$7:$E$11),IF($F$7:$F$11=AE24,$I$7:$I$11),IF($J$7:$J$11=AE24,$M$7:$M$11),IF($N$7:$N$11=AE24,$Q$7:$Q$11),IF($R$7:$R$11=AE24,$U$7:$U$11),IF($V$7:$V$11=AE24,$Y$7:$Y$11),IF($Z$7:$Z$11=AE24,$AC$7:$AC$11), IF($B$15:$B$19=AE24,$E$15:$E$19),IF($F$15:$F$19=AE24,$I$15:$I$19),IF($J$15:$J$19=AE24,$M$15:$M$19),IF($N$15:$N$19=AE24,$Q$15:$Q$19),IF($R$15:$R$19=AE24,$U$15:$U$19),IF($V$15:$V$19=AE24,$Y$15:$Y$19),IF($Z$15:$Z$19=AE24,$AC$15:$AC$19), IF($B$23:$B$27=AE24,$E$23:$E$27),IF($F$23:$F$27=AE24,$I$23:$I$27),IF($J$23:$J$27=AE24,$M$23:$M$27),IF($N$23:$N$27=AE24,$Q$23:$Q$27),IF($R$23:$R$27=AE24,$U$23:$U$27),IF($V$23:$V$27=AE24,$Y$23:$Y$27),IF($Z$23:$Z$27=AE24,$AC$23:$AC$27), IF($B$31:$B$35=AE24,$E$31:$E$35),IF($F$31:$F$35=AE24,$I$31:$I$35),IF($J$31:$J$35=AE24,$M$31:$M$35),IF($N$31:$N$35=AE24,$Q$31:$Q$35),IF($R$31:$R$35=AE24,$U$31:$U$35),IF($V$31:$V$35=AE24,$Y$31:$Y$35),IF($Z$31:$Z$35=AE24,$AC$31:$AC$35), IF($B$39:$B$43=AE24,$E$39:$E$43),IF($F$39:$F$43=AE24,$I$39:$I$43),IF($J$39:$J$43=AE24,$M$39:$M$43),IF($N$39:$N$43=AE24,$Q$39:$Q$43),IF($R$39:$R$43=AE24,$U$39:$U$43),IF($V$39:$V$43=AE24,$Y$39:$Y$43),IF($Z$39:$Z$43=AE24,$AC$39:$AC$43), IF($B$47:$B$51=AE24,$E$47:$E$51),IF($F$47:$F$51=AE24,$I$47:$I$51),IF($J$47:$J$51=AE24,$M$47:$M$51),IF($N$47:$N$51=AE24,$Q$47:$Q$51),IF($R$47:$R$51=AE24,$U$47:$U$51),IF($V$47:$V$51=AE24,$Y$47:$Y$51),IF($Z$47:$Z$51=AE24,$AC$47:$AC$51))} -> 0
AE25: 19 | AG25: ='Budget 2026'!C82 -> Cell Phone Service | AH25: {=SUM(IF($B$7:$B$11=AE25,$E$7:$E$11),IF($F$7:$F$11=AE25,$I$7:$I$11),IF($J$7:$J$11=AE25,$M$7:$M$11),IF($N$7:$N$11=AE25,$Q$7:$Q$11),IF($R$7:$R$11=AE25,$U$7:$U$11),IF($V$7:$V$11=AE25,$Y$7:$Y$11),IF($Z$7:$Z$11=AE25,$AC$7:$AC$11), IF($B$15:$B$19=AE25,$E$15:$E$19),IF($F$15:$F$19=AE25,$I$15:$I$19),IF($J$15:$J$19=AE25,$M$15:$M$19),IF($N$15:$N$19=AE25,$Q$15:$Q$19),IF($R$15:$R$19=AE25,$U$15:$U$19),IF($V$15:$V$19=AE25,$Y$15:$Y$19),IF($Z$15:$Z$19=AE25,$AC$15:$AC$19), IF($B$23:$B$27=AE25,$E$23:$E$27),IF($F$23:$F$27=AE25,$I$23:$I$27),IF($J$23:$J$27=AE25,$M$23:$M$27),IF($N$23:$N$27=AE25,$Q$23:$Q$27),IF($R$23:$R$27=AE25,$U$23:$U$27),IF($V$23:$V$27=AE25,$Y$23:$Y$27),IF($Z$23:$Z$27=AE25,$AC$23:$AC$27), IF($B$31:$B$35=AE25,$E$31:$E$35),IF($F$31:$F$35=AE25,$I$31:$I$35),IF($J$31:$J$35=AE25,$M$31:$M$35),IF($N$31:$N$35=AE25,$Q$31:$Q$35),IF($R$31:$R$35=AE25,$U$31:$U$35),IF($V$31:$V$35=AE25,$Y$31:$Y$35),IF($Z$31:$Z$35=AE25,$AC$31:$AC$35), IF($B$39:$B$43=AE25,$E$39:$E$43),IF($F$39:$F$43=AE25,$I$39:$I$43),IF($J$39:$J$43=AE25,$M$39:$M$43),IF($N$39:$N$43=AE25,$Q$39:$Q$43),IF($R$39:$R$43=AE25,$U$39:$U$43),IF($V$39:$V$43=AE25,$Y$39:$Y$43),IF($Z$39:$Z$43=AE25,$AC$39:$AC$43), IF($B$47:$B$51=AE25,$E$47:$E$51),IF($F$47:$F$51=AE25,$I$47:$I$51),IF($J$47:$J$51=AE25,$M$47:$M$51),IF($N$47:$N$51=AE25,$Q$47:$Q$51),IF($R$47:$R$51=AE25,$U$47:$U$51),IF($V$47:$V$51=AE25,$Y$47:$Y$51),IF($Z$47:$Z$51=AE25,$AC$47:$AC$51))} -> 0
AE26: 20 | AG26: ='Budget 2026'!C83 -> Cable Bill | AH26: {=SUM(IF($B$7:$B$11=AE26,$E$7:$E$11),IF($F$7:$F$11=AE26,$I$7:$I$11),IF($J$7:$J$11=AE26,$M$7:$M$11),IF($N$7:$N$11=AE26,$Q$7:$Q$11),IF($R$7:$R$11=AE26,$U$7:$U$11),IF($V$7:$V$11=AE26,$Y$7:$Y$11),IF($Z$7:$Z$11=AE26,$AC$7:$AC$11), IF($B$15:$B$19=AE26,$E$15:$E$19),IF($F$15:$F$19=AE26,$I$15:$I$19),IF($J$15:$J$19=AE26,$M$15:$M$19),IF($N$15:$N$19=AE26,$Q$15:$Q$19),IF($R$15:$R$19=AE26,$U$15:$U$19),IF($V$15:$V$19=AE26,$Y$15:$Y$19),IF($Z$15:$Z$19=AE26,$AC$15:$AC$19), IF($B$23:$B$27=AE26,$E$23:$E$27),IF($F$23:$F$27=AE26,$I$23:$I$27),IF($J$23:$J$27=AE26,$M$23:$M$27),IF($N$23:$N$27=AE26,$Q$23:$Q$27),IF($R$23:$R$27=AE26,$U$23:$U$27),IF($V$23:$V$27=AE26,$Y$23:$Y$27),IF($Z$23:$Z$27=AE26,$AC$23:$AC$27), IF($B$31:$B$35=AE26,$E$31:$E$35),IF($F$31:$F$35=AE26,$I$31:$I$35),IF($J$31:$J$35=AE26,$M$31:$M$35),IF($N$31:$N$35=AE26,$Q$31:$Q$35),IF($R$31:$R$35=AE26,$U$31:$U$35),IF($V$31:$V$35=AE26,$Y$31:$Y$35),IF($Z$31:$Z$35=AE26,$AC$31:$AC$35), IF($B$39:$B$43=AE26,$E$39:$E$43),IF($F$39:$F$43=AE26,$I$39:$I$43),IF($J$39:$J$43=AE26,$M$39:$M$43),IF($N$39:$N$43=AE26,$Q$39:$Q$43),IF($R$39:$R$43=AE26,$U$39:$U$43),IF($V$39:$V$43=AE26,$Y$39:$Y$43),IF($Z$39:$Z$43=AE26,$AC$39:$AC$43), IF($B$47:$B$51=AE26,$E$47:$E$51),IF($F$47:$F$51=AE26,$I$47:$I$51),IF($J$47:$J$51=AE26,$M$47:$M$51),IF($N$47:$N$51=AE26,$Q$47:$Q$51),IF($R$47:$R$51=AE26,$U$47:$U$51),IF($V$47:$V$51=AE26,$Y$47:$Y$51),IF($Z$47:$Z$51=AE26,$AC$47:$AC$51))} -> 0
AE27: 21 | AG27: ='Budget 2026'!C84 -> Auto Maint. | AH27: {=SUM(IF($B$7:$B$11=AE27,$E$7:$E$11),IF($F$7:$F$11=AE27,$I$7:$I$11),IF($J$7:$J$11=AE27,$M$7:$M$11),IF($N$7:$N$11=AE27,$Q$7:$Q$11),IF($R$7:$R$11=AE27,$U$7:$U$11),IF($V$7:$V$11=AE27,$Y$7:$Y$11),IF($Z$7:$Z$11=AE27,$AC$7:$AC$11), IF($B$15:$B$19=AE27,$E$15:$E$19),IF($F$15:$F$19=AE27,$I$15:$I$19),IF($J$15:$J$19=AE27,$M$15:$M$19),IF($N$15:$N$19=AE27,$Q$15:$Q$19),IF($R$15:$R$19=AE27,$U$15:$U$19),IF($V$15:$V$19=AE27,$Y$15:$Y$19),IF($Z$15:$Z$19=AE27,$AC$15:$AC$19), IF($B$23:$B$27=AE27,$E$23:$E$27),IF($F$23:$F$27=AE27,$I$23:$I$27),IF($J$23:$J$27=AE27,$M$23:$M$27),IF($N$23:$N$27=AE27,$Q$23:$Q$27),IF($R$23:$R$27=AE27,$U$23:$U$27),IF($V$23:$V$27=AE27,$Y$23:$Y$27),IF($Z$23:$Z$27=AE27,$AC$23:$AC$27), IF($B$31:$B$35=AE27,$E$31:$E$35),IF($F$31:$F$35=AE27,$I$31:$I$35),IF($J$31:$J$35=AE27,$M$31:$M$35),IF($N$31:$N$35=AE27,$Q$31:$Q$35),IF($R$31:$R$35=AE27,$U$31:$U$35),IF($V$31:$V$35=AE27,$Y$31:$Y$35),IF($Z$31:$Z$35=AE27,$AC$31:$AC$35), IF($B$39:$B$43=AE27,$E$39:$E$43),IF($F$39:$F$43=AE27,$I$39:$I$43),IF($J$39:$J$43=AE27,$M$39:$M$43),IF($N$39:$N$43=AE27,$Q$39:$Q$43),IF($R$39:$R$43=AE27,$U$39:$U$43),IF($V$39:$V$43=AE27,$Y$39:$Y$43),IF($Z$39:$Z$43=AE27,$AC$39:$AC$43), IF($B$47:$B$51=AE27,$E$47:$E$51),IF($F$47:$F$51=AE27,$I$47:$I$51),IF($J$47:$J$51=AE27,$M$47:$M$51),IF($N$47:$N$51=AE27,$Q$47:$Q$51),IF($R$47:$R$51=AE27,$U$47:$U$51),IF($V$47:$V$51=AE27,$Y$47:$Y$51),IF($Z$47:$Z$51=AE27,$AC$47:$AC$51))} -> 0
B28: =Z20+1 -> 11 | D28: Checking | E28: {=AC20+SUM(IF(C23:C27=1,E23:E27))} -> 0 | F28: =B28+1 -> 12 | H28: Checking | I28: {=E28+SUM(IF(G23:G27=1,I23:I27))} -> 0 | J28: =F28+1 -> 13 | L28: Checking | M28: {=I28+SUM(IF(K23:K27=1,M23:M27))} -> 0 | N28: =J28+1 -> 14 | P28: Checking | Q28: {=M28+SUM(IF(O23:O27=1,Q23:Q27))} -> 0 | R28: =N28+1 -> 15 | T28: Checking | U28: {=Q28+SUM(IF(S23:S27=1,U23:U27))} -> 0 | V28: =R28+1 -> 16 | X28: Checking | Y28: {=U28+SUM(IF(W23:W27=1,Y23:Y27))} -> 0 | Z28: =V28+1 -> 17 | AB28: Checking | AC28: {=Y28+SUM(IF(AA23:AA27=1,AC23:AC27))} -> 0 | AE28: 22 | AG28: ='Budget 2026'!C85 -> Auto Loan | AH28: {=SUM(IF($B$7:$B$11=AE28,$E$7:$E$11),IF($F$7:$F$11=AE28,$I$7:$I$11),IF($J$7:$J$11=AE28,$M$7:$M$11),IF($N$7:$N$11=AE28,$Q$7:$Q$11),IF($R$7:$R$11=AE28,$U$7:$U$11),IF($V$7:$V$11=AE28,$Y$7:$Y$11),IF($Z$7:$Z$11=AE28,$AC$7:$AC$11), IF($B$15:$B$19=AE28,$E$15:$E$19),IF($F$15:$F$19=AE28,$I$15:$I$19),IF($J$15:$J$19=AE28,$M$15:$M$19),IF($N$15:$N$19=AE28,$Q$15:$Q$19),IF($R$15:$R$19=AE28,$U$15:$U$19),IF($V$15:$V$19=AE28,$Y$15:$Y$19),IF($Z$15:$Z$19=AE28,$AC$15:$AC$19), IF($B$23:$B$27=AE28,$E$23:$E$27),IF($F$23:$F$27=AE28,$I$23:$I$27),IF($J$23:$J$27=AE28,$M$23:$M$27),IF($N$23:$N$27=AE28,$Q$23:$Q$27),IF($R$23:$R$27=AE28,$U$23:$U$27),IF($V$23:$V$27=AE28,$Y$23:$Y$27),IF($Z$23:$Z$27=AE28,$AC$23:$AC$27), IF($B$31:$B$35=AE28,$E$31:$E$35),IF($F$31:$F$35=AE28,$I$31:$I$35),IF($J$31:$J$35=AE28,$M$31:$M$35),IF($N$31:$N$35=AE28,$Q$31:$Q$35),IF($R$31:$R$35=AE28,$U$31:$U$35),IF($V$31:$V$35=AE28,$Y$31:$Y$35),IF($Z$31:$Z$35=AE28,$AC$31:$AC$35), IF($B$39:$B$43=AE28,$E$39:$E$43),IF($F$39:$F$43=AE28,$I$39:$I$43),IF($J$39:$J$43=AE28,$M$39:$M$43),IF($N$39:$N$43=AE28,$Q$39:$Q$43),IF($R$39:$R$43=AE28,$U$39:$U$43),IF($V$39:$V$43=AE28,$Y$39:$Y$43),IF($Z$39:$Z$43=AE28,$AC$39:$AC$43), IF($B$47:$B$51=AE28,$E$47:$E$51),IF($F$47:$F$51=AE28,$I$47:$I$51),IF($J$47:$J$51=AE28,$M$47:$M$51),IF($N$47:$N$51=AE28,$Q$47:$Q$51),IF($R$47:$R$51=AE28,$U$47:$U$51),IF($V$47:$V$51=AE28,$Y$47:$Y$51),IF($Z$47:$Z$51=AE28,$AC$47:$AC$51))} -> 0
D29: Savings | E29: {=AC21+SUM(IF(C23:C27=2,E23:E27))-SUM(IF(B23:B27={33},E23:E27))} -> 100 | H29: Savings | I29: {=E29+SUM(IF(G23:G27=2,I23:I27))-SUM(IF(F23:F27={33},I23:I27))} -> 100 | L29: Savings | M29: {=I29+SUM(IF(K23:K27=2,M23:M27))-SUM(IF(J23:J27={33},M23:M27))} -> 100 | P29: Savings | Q29: {=M29+SUM(IF(O23:O27=2,Q23:Q27))-SUM(IF(N23:N27={33},Q23:Q27))} -> 100 | T29: Savings | U29: {=Q29+SUM(IF(S23:S27=2,U23:U27))-SUM(IF(R23:R27={33},U23:U27))} -> 100 | X29: Savings | Y29: {=U29+SUM(IF(W23:W27=2,Y23:Y27))-SUM(IF(V23:V27={33},Y23:Y27))} -> 100 | AB29: Savings | AC29: {=Y29+SUM(IF(AA23:AA27=2,AC23:AC27))-SUM(IF(Z23:Z27={33},AC23:AC27))} -> 100 | AE29: 23 | AG29: ='Budget 2026'!C86 -> Medical | AH29: {=SUM(IF($B$7:$B$11=AE29,$E$7:$E$11),IF($F$7:$F$11=AE29,$I$7:$I$11),IF($J$7:$J$11=AE29,$M$7:$M$11),IF($N$7:$N$11=AE29,$Q$7:$Q$11),IF($R$7:$R$11=AE29,$U$7:$U$11),IF($V$7:$V$11=AE29,$Y$7:$Y$11),IF($Z$7:$Z$11=AE29,$AC$7:$AC$11), IF($B$15:$B$19=AE29,$E$15:$E$19),IF($F$15:$F$19=AE29,$I$15:$I$19),IF($J$15:$J$19=AE29,$M$15:$M$19),IF($N$15:$N$19=AE29,$Q$15:$Q$19),IF($R$15:$R$19=AE29,$U$15:$U$19),IF($V$15:$V$19=AE29,$Y$15:$Y$19),IF($Z$15:$Z$19=AE29,$AC$15:$AC$19), IF($B$23:$B$27=AE29,$E$23:$E$27),IF($F$23:$F$27=AE29,$I$23:$I$27),IF($J$23:$J$27=AE29,$M$23:$M$27),IF($N$23:$N$27=AE29,$Q$23:$Q$27),IF($R$23:$R$27=AE29,$U$23:$U$27),IF($V$23:$V$27=AE29,$Y$23:$Y$27),IF($Z$23:$Z$27=AE29,$AC$23:$AC$27), IF($B$31:$B$35=AE29,$E$31:$E$35),IF($F$31:$F$35=AE29,$I$31:$I$35),IF($J$31:$J$35=AE29,$M$31:$M$35),IF($N$31:$N$35=AE29,$Q$31:$Q$35),IF($R$31:$R$35=AE29,$U$31:$U$35),IF($V$31:$V$35=AE29,$Y$31:$Y$35),IF($Z$31:$Z$35=AE29,$AC$31:$AC$35), IF($B$39:$B$43=AE29,$E$39:$E$43),IF($F$39:$F$43=AE29,$I$39:$I$43),IF($J$39:$J$43=AE29,$M$39:$M$43),IF($N$39:$N$43=AE29,$Q$39:$Q$43),IF($R$39:$R$43=AE29,$U$39:$U$43),IF($V$39:$V$43=AE29,$Y$39:$Y$43),IF($Z$39:$Z$43=AE29,$AC$39:$AC$43), IF($B$47:$B$51=AE29,$E$47:$E$51),IF($F$47:$F$51=AE29,$I$47:$I$51),IF($J$47:$J$51=AE29,$M$47:$M$51),IF($N$47:$N$51=AE29,$Q$47:$Q$51),IF($R$47:$R$51=AE29,$U$47:$U$51),IF($V$47:$V$51=AE29,$Y$47:$Y$51),IF($Z$47:$Z$51=AE29,$AC$47:$AC$51))} -> 0
D30: Credit | E30: {=AC22+SUM(IF(C23:C27=3,E23:E27))-SUM(IF(B23:B27={34},E23:E27))} -> -100 | H30: Credit | I30: {=E30+SUM(IF(G23:G27=3,I23:I27))-SUM(IF(F23:F27={34},I23:I27))} -> -100 | L30: Credit | M30: {=I30+SUM(IF(K23:K27=3,M23:M27))-SUM(IF(J23:J27={34},M23:M27))} -> -100 | P30: Credit | Q30: {=M30+SUM(IF(O23:O27=3,Q23:Q27))-SUM(IF(N23:N27={34},Q23:Q27))} -> -100 | T30: Credit | U30: {=Q30+SUM(IF(S23:S27=3,U23:U27))-SUM(IF(R23:R27={34},U23:U27))} -> -100 | X30: Credit | Y30: {=U30+SUM(IF(W23:W27=3,Y23:Y27))-SUM(IF(V23:V27={34},Y23:Y27))} -> -100 | AB30: Credit | AC30: {=Y30+SUM(IF(AA23:AA27=3,AC23:AC27))-SUM(IF(Z23:Z27={34},AC23:AC27))} -> -100 | AE30: 24 | AG30: ='Budget 2026'!C87 -> HairCare | AH30: {=SUM(IF($B$7:$B$11=AE30,$E$7:$E$11),IF($F$7:$F$11=AE30,$I$7:$I$11),IF($J$7:$J$11=AE30,$M$7:$M$11),IF($N$7:$N$11=AE30,$Q$7:$Q$11),IF($R$7:$R$11=AE30,$U$7:$U$11),IF($V$7:$V$11=AE30,$Y$7:$Y$11),IF($Z$7:$Z$11=AE30,$AC$7:$AC$11), IF($B$15:$B$19=AE30,$E$15:$E$19),IF($F$15:$F$19=AE30,$I$15:$I$19),IF($J$15:$J$19=AE30,$M$15:$M$19),IF($N$15:$N$19=AE30,$Q$15:$Q$19),IF($R$15:$R$19=AE30,$U$15:$U$19),IF($V$15:$V$19=AE30,$Y$15:$Y$19),IF($Z$15:$Z$19=AE30,$AC$15:$AC$19), IF($B$23:$B$27=AE30,$E$23:$E$27),IF($F$23:$F$27=AE30,$I$23:$I$27),IF($J$23:$J$27=AE30,$M$23:$M$27),IF($N$23:$N$27=AE30,$Q$23:$Q$27),IF($R$23:$R$27=AE30,$U$23:$U$27),IF($V$23:$V$27=AE30,$Y$23:$Y$27),IF($Z$23:$Z$27=AE30,$AC$23:$AC$27), IF($B$31:$B$35=AE30,$E$31:$E$35),IF($F$31:$F$35=AE30,$I$31:$I$35),IF($J$31:$J$35=AE30,$M$31:$M$35),IF($N$31:$N$35=AE30,$Q$31:$Q$35),IF($R$31:$R$35=AE30,$U$31:$U$35),IF($V$31:$V$35=AE30,$Y$31:$Y$35),IF($Z$31:$Z$35=AE30,$AC$31:$AC$35), IF($B$39:$B$43=AE30,$E$39:$E$43),IF($F$39:$F$43=AE30,$I$39:$I$43),IF($J$39:$J$43=AE30,$M$39:$M$43),IF($N$39:$N$43=AE30,$Q$39:$Q$43),IF($R$39:$R$43=AE30,$U$39:$U$43),IF($V$39:$V$43=AE30,$Y$39:$Y$43),IF($Z$39:$Z$43=AE30,$AC$39:$AC$43), IF($B$47:$B$51=AE30,$E$47:$E$51),IF($F$47:$F$51=AE30,$I$47:$I$51),IF($J$47:$J$51=AE30,$M$47:$M$51),IF($N$47:$N$51=AE30,$Q$47:$Q$51),IF($R$47:$R$51=AE30,$U$47:$U$51),IF($V$47:$V$51=AE30,$Y$47:$Y$51),IF($Z$47:$Z$51=AE30,$AC$47:$AC$51))} -> 0
AE31: 25 | AG31: ='Budget 2026'!C88 -> Clothing | AH31: {=SUM(IF($B$7:$B$11=AE31,$E$7:$E$11),IF($F$7:$F$11=AE31,$I$7:$I$11),IF($J$7:$J$11=AE31,$M$7:$M$11),IF($N$7:$N$11=AE31,$Q$7:$Q$11),IF($R$7:$R$11=AE31,$U$7:$U$11),IF($V$7:$V$11=AE31,$Y$7:$Y$11),IF($Z$7:$Z$11=AE31,$AC$7:$AC$11), IF($B$15:$B$19=AE31,$E$15:$E$19),IF($F$15:$F$19=AE31,$I$15:$I$19),IF($J$15:$J$19=AE31,$M$15:$M$19),IF($N$15:$N$19=AE31,$Q$15:$Q$19),IF($R$15:$R$19=AE31,$U$15:$U$19),IF($V$15:$V$19=AE31,$Y$15:$Y$19),IF($Z$15:$Z$19=AE31,$AC$15:$AC$19), IF($B$23:$B$27=AE31,$E$23:$E$27),IF($F$23:$F$27=AE31,$I$23:$I$27),IF($J$23:$J$27=AE31,$M$23:$M$27),IF($N$23:$N$27=AE31,$Q$23:$Q$27),IF($R$23:$R$27=AE31,$U$23:$U$27),IF($V$23:$V$27=AE31,$Y$23:$Y$27),IF($Z$23:$Z$27=AE31,$AC$23:$AC$27), IF($B$31:$B$35=AE31,$E$31:$E$35),IF($F$31:$F$35=AE31,$I$31:$I$35),IF($J$31:$J$35=AE31,$M$31:$M$35),IF($N$31:$N$35=AE31,$Q$31:$Q$35),IF($R$31:$R$35=AE31,$U$31:$U$35),IF($V$31:$V$35=AE31,$Y$31:$Y$35),IF($Z$31:$Z$35=AE31,$AC$31:$AC$35), IF($B$39:$B$43=AE31,$E$39:$E$43),IF($F$39:$F$43=AE31,$I$39:$I$43),IF($J$39:$J$43=AE31,$M$39:$M$43),IF($N$39:$N$43=AE31,$Q$39:$Q$43),IF($R$39:$R$43=AE31,$U$39:$U$43),IF($V$39:$V$43=AE31,$Y$39:$Y$43),IF($Z$39:$Z$43=AE31,$AC$39:$AC$43), IF($B$47:$B$51=AE31,$E$47:$E$51),IF($F$47:$F$51=AE31,$I$47:$I$51),IF($J$47:$J$51=AE31,$M$47:$M$51),IF($N$47:$N$51=AE31,$Q$47:$Q$51),IF($R$47:$R$51=AE31,$U$47:$U$51),IF($V$47:$V$51=AE31,$Y$47:$Y$51),IF($Z$47:$Z$51=AE31,$AC$47:$AC$51))} -> 0
AE32: 26 | AG32: ='Budget 2026'!C91 -> DayCare/School | AH32: {=SUM(IF($B$7:$B$11=AE32,$E$7:$E$11),IF($F$7:$F$11=AE32,$I$7:$I$11),IF($J$7:$J$11=AE32,$M$7:$M$11),IF($N$7:$N$11=AE32,$Q$7:$Q$11),IF($R$7:$R$11=AE32,$U$7:$U$11),IF($V$7:$V$11=AE32,$Y$7:$Y$11),IF($Z$7:$Z$11=AE32,$AC$7:$AC$11), IF($B$15:$B$19=AE32,$E$15:$E$19),IF($F$15:$F$19=AE32,$I$15:$I$19),IF($J$15:$J$19=AE32,$M$15:$M$19),IF($N$15:$N$19=AE32,$Q$15:$Q$19),IF($R$15:$R$19=AE32,$U$15:$U$19),IF($V$15:$V$19=AE32,$Y$15:$Y$19),IF($Z$15:$Z$19=AE32,$AC$15:$AC$19), IF($B$23:$B$27=AE32,$E$23:$E$27),IF($F$23:$F$27=AE32,$I$23:$I$27),IF($J$23:$J$27=AE32,$M$23:$M$27),IF($N$23:$N$27=AE32,$Q$23:$Q$27),IF($R$23:$R$27=AE32,$U$23:$U$27),IF($V$23:$V$27=AE32,$Y$23:$Y$27),IF($Z$23:$Z$27=AE32,$AC$23:$AC$27), IF($B$31:$B$35=AE32,$E$31:$E$35),IF($F$31:$F$35=AE32,$I$31:$I$35),IF($J$31:$J$35=AE32,$M$31:$M$35),IF($N$31:$N$35=AE32,$Q$31:$Q$35),IF($R$31:$R$35=AE32,$U$31:$U$35),IF($V$31:$V$35=AE32,$Y$31:$Y$35),IF($Z$31:$Z$35=AE32,$AC$31:$AC$35), IF($B$39:$B$43=AE32,$E$39:$E$43),IF($F$39:$F$43=AE32,$I$39:$I$43),IF($J$39:$J$43=AE32,$M$39:$M$43),IF($N$39:$N$43=AE32,$Q$39:$Q$43),IF($R$39:$R$43=AE32,$U$39:$U$43),IF($V$39:$V$43=AE32,$Y$39:$Y$43),IF($Z$39:$Z$43=AE32,$AC$39:$AC$43), IF($B$47:$B$51=AE32,$E$47:$E$51),IF($F$47:$F$51=AE32,$I$47:$I$51),IF($J$47:$J$51=AE32,$M$47:$M$51),IF($N$47:$N$51=AE32,$Q$47:$Q$51),IF($R$47:$R$51=AE32,$U$47:$U$51),IF($V$47:$V$51=AE32,$Y$47:$Y$51),IF($Z$47:$Z$51=AE32,$AC$47:$AC$51))} -> 0
AE33: 27 | AG33: ='Budget 2026'!C92 -> Car Insurance | AH33: {=SUM(IF($B$7:$B$11=AE33,$E$7:$E$11),IF($F$7:$F$11=AE33,$I$7:$I$11),IF($J$7:$J$11=AE33,$M$7:$M$11),IF($N$7:$N$11=AE33,$Q$7:$Q$11),IF($R$7:$R$11=AE33,$U$7:$U$11),IF($V$7:$V$11=AE33,$Y$7:$Y$11),IF($Z$7:$Z$11=AE33,$AC$7:$AC$11), IF($B$15:$B$19=AE33,$E$15:$E$19),IF($F$15:$F$19=AE33,$I$15:$I$19),IF($J$15:$J$19=AE33,$M$15:$M$19),IF($N$15:$N$19=AE33,$Q$15:$Q$19),IF($R$15:$R$19=AE33,$U$15:$U$19),IF($V$15:$V$19=AE33,$Y$15:$Y$19),IF($Z$15:$Z$19=AE33,$AC$15:$AC$19), IF($B$23:$B$27=AE33,$E$23:$E$27),IF($F$23:$F$27=AE33,$I$23:$I$27),IF($J$23:$J$27=AE33,$M$23:$M$27),IF($N$23:$N$27=AE33,$Q$23:$Q$27),IF($R$23:$R$27=AE33,$U$23:$U$27),IF($V$23:$V$27=AE33,$Y$23:$Y$27),IF($Z$23:$Z$27=AE33,$AC$23:$AC$27), IF($B$31:$B$35=AE33,$E$31:$E$35),IF($F$31:$F$35=AE33,$I$31:$I$35),IF($J$31:$J$35=AE33,$M$31:$M$35),IF($N$31:$N$35=AE33,$Q$31:$Q$35),IF($R$31:$R$35=AE33,$U$31:$U$35),IF($V$31:$V$35=AE33,$Y$31:$Y$35),IF($Z$31:$Z$35=AE33,$AC$31:$AC$35), IF($B$39:$B$43=AE33,$E$39:$E$43),IF($F$39:$F$43=AE33,$I$39:$I$43),IF($J$39:$J$43=AE33,$M$39:$M$43),IF($N$39:$N$43=AE33,$Q$39:$Q$43),IF($R$39:$R$43=AE33,$U$39:$U$43),IF($V$39:$V$43=AE33,$Y$39:$Y$43),IF($Z$39:$Z$43=AE33,$AC$39:$AC$43), IF($B$47:$B$51=AE33,$E$47:$E$51),IF($F$47:$F$51=AE33,$I$47:$I$51),IF($J$47:$J$51=AE33,$M$47:$M$51),IF($N$47:$N$51=AE33,$Q$47:$Q$51),IF($R$47:$R$51=AE33,$U$47:$U$51),IF($V$47:$V$51=AE33,$Y$47:$Y$51),IF($Z$47:$Z$51=AE33,$AC$47:$AC$51))} -> 0
AE34: 28 | AG34: ='Budget 2026'!C93 -> Realestate Taxes | AH34: {=SUM(IF($B$7:$B$11=AE34,$E$7:$E$11),IF($F$7:$F$11=AE34,$I$7:$I$11),IF($J$7:$J$11=AE34,$M$7:$M$11),IF($N$7:$N$11=AE34,$Q$7:$Q$11),IF($R$7:$R$11=AE34,$U$7:$U$11),IF($V$7:$V$11=AE34,$Y$7:$Y$11),IF($Z$7:$Z$11=AE34,$AC$7:$AC$11), IF($B$15:$B$19=AE34,$E$15:$E$19),IF($F$15:$F$19=AE34,$I$15:$I$19),IF($J$15:$J$19=AE34,$M$15:$M$19),IF($N$15:$N$19=AE34,$Q$15:$Q$19),IF($R$15:$R$19=AE34,$U$15:$U$19),IF($V$15:$V$19=AE34,$Y$15:$Y$19),IF($Z$15:$Z$19=AE34,$AC$15:$AC$19), IF($B$23:$B$27=AE34,$E$23:$E$27),IF($F$23:$F$27=AE34,$I$23:$I$27),IF($J$23:$J$27=AE34,$M$23:$M$27),IF($N$23:$N$27=AE34,$Q$23:$Q$27),IF($R$23:$R$27=AE34,$U$23:$U$27),IF($V$23:$V$27=AE34,$Y$23:$Y$27),IF($Z$23:$Z$27=AE34,$AC$23:$AC$27), IF($B$31:$B$35=AE34,$E$31:$E$35),IF($F$31:$F$35=AE34,$I$31:$I$35),IF($J$31:$J$35=AE34,$M$31:$M$35),IF($N$31:$N$35=AE34,$Q$31:$Q$35),IF($R$31:$R$35=AE34,$U$31:$U$35),IF($V$31:$V$35=AE34,$Y$31:$Y$35),IF($Z$31:$Z$35=AE34,$AC$31:$AC$35), IF($B$39:$B$43=AE34,$E$39:$E$43),IF($F$39:$F$43=AE34,$I$39:$I$43),IF($J$39:$J$43=AE34,$M$39:$M$43),IF($N$39:$N$43=AE34,$Q$39:$Q$43),IF($R$39:$R$43=AE34,$U$39:$U$43),IF($V$39:$V$43=AE34,$Y$39:$Y$43),IF($Z$39:$Z$43=AE34,$AC$39:$AC$43), IF($B$47:$B$51=AE34,$E$47:$E$51),IF($F$47:$F$51=AE34,$I$47:$I$51),IF($J$47:$J$51=AE34,$M$47:$M$51),IF($N$47:$N$51=AE34,$Q$47:$Q$51),IF($R$47:$R$51=AE34,$U$47:$U$51),IF($V$47:$V$51=AE34,$Y$47:$Y$51),IF($Z$47:$Z$51=AE34,$AC$47:$AC$51))} -> 0
AE35: 29 | AG35: ='Budget 2026'!C94 -> Home/Renters Insurance | AH35: {=SUM(IF($B$7:$B$11=AE35,$E$7:$E$11),IF($F$7:$F$11=AE35,$I$7:$I$11),IF($J$7:$J$11=AE35,$M$7:$M$11),IF($N$7:$N$11=AE35,$Q$7:$Q$11),IF($R$7:$R$11=AE35,$U$7:$U$11),IF($V$7:$V$11=AE35,$Y$7:$Y$11),IF($Z$7:$Z$11=AE35,$AC$7:$AC$11), IF($B$15:$B$19=AE35,$E$15:$E$19),IF($F$15:$F$19=AE35,$I$15:$I$19),IF($J$15:$J$19=AE35,$M$15:$M$19),IF($N$15:$N$19=AE35,$Q$15:$Q$19),IF($R$15:$R$19=AE35,$U$15:$U$19),IF($V$15:$V$19=AE35,$Y$15:$Y$19),IF($Z$15:$Z$19=AE35,$AC$15:$AC$19), IF($B$23:$B$27=AE35,$E$23:$E$27),IF($F$23:$F$27=AE35,$I$23:$I$27),IF($J$23:$J$27=AE35,$M$23:$M$27),IF($N$23:$N$27=AE35,$Q$23:$Q$27),IF($R$23:$R$27=AE35,$U$23:$U$27),IF($V$23:$V$27=AE35,$Y$23:$Y$27),IF($Z$23:$Z$27=AE35,$AC$23:$AC$27), IF($B$31:$B$35=AE35,$E$31:$E$35),IF($F$31:$F$35=AE35,$I$31:$I$35),IF($J$31:$J$35=AE35,$M$31:$M$35),IF($N$31:$N$35=AE35,$Q$31:$Q$35),IF($R$31:$R$35=AE35,$U$31:$U$35),IF($V$31:$V$35=AE35,$Y$31:$Y$35),IF($Z$31:$Z$35=AE35,$AC$31:$AC$35), IF($B$39:$B$43=AE35,$E$39:$E$43),IF($F$39:$F$43=AE35,$I$39:$I$43),IF($J$39:$J$43=AE35,$M$39:$M$43),IF($N$39:$N$43=AE35,$Q$39:$Q$43),IF($R$39:$R$43=AE35,$U$39:$U$43),IF($V$39:$V$43=AE35,$Y$39:$Y$43),IF($Z$39:$Z$43=AE35,$AC$39:$AC$43), IF($B$47:$B$51=AE35,$E$47:$E$51),IF($F$47:$F$51=AE35,$I$47:$I$51),IF($J$47:$J$51=AE35,$M$47:$M$51),IF($N$47:$N$51=AE35,$Q$47:$Q$51),IF($R$47:$R$51=AE35,$U$47:$U$51),IF($V$47:$V$51=AE35,$Y$47:$Y$51),IF($Z$47:$Z$51=AE35,$AC$47:$AC$51))} -> 0
B36: =Z28+1 -> 18 | D36: Checking | E36: {=AC28+SUM(IF(C31:C35=1,E31:E35))} -> 0 | F36: =B36+1 -> 19 | H36: Checking | I36: {=E36+SUM(IF(G31:G35=1,I31:I35))} -> 0 | J36: =F36+1 -> 20 | L36: Checking | M36: {=I36+SUM(IF(K31:K35=1,M31:M35))} -> 0 | N36: =J36+1 -> 21 | P36: Checking | Q36: {=M36+SUM(IF(O31:O35=1,Q31:Q35))} -> 0 | R36: =N36+1 -> 22 | T36: Checking | U36: {=Q36+SUM(IF(S31:S35=1,U31:U35))} -> 0 | V36: =R36+1 -> 23 | X36: Checking | Y36: {=U36+SUM(IF(W31:W35=1,Y31:Y35))} -> 0 | Z36: =V36+1 -> 24 | AB36: Checking | AC36: {=Y36+SUM(IF(AA31:AA35=1,AC31:AC35))} -> 0 | AE36: 30 | AG36: ='Budget 2026'!C95 -> Home Improvement | AH36: {=SUM(IF($B$7:$B$11=AE36,$E$7:$E$11),IF($F$7:$F$11=AE36,$I$7:$I$11),IF($J$7:$J$11=AE36,$M$7:$M$11),IF($N$7:$N$11=AE36,$Q$7:$Q$11),IF($R$7:$R$11=AE36,$U$7:$U$11),IF($V$7:$V$11=AE36,$Y$7:$Y$11),IF($Z$7:$Z$11=AE36,$AC$7:$AC$11), IF($B$15:$B$19=AE36,$E$15:$E$19),IF($F$15:$F$19=AE36,$I$15:$I$19),IF($J$15:$J$19=AE36,$M$15:$M$19),IF($N$15:$N$19=AE36,$Q$15:$Q$19),IF($R$15:$R$19=AE36,$U$15:$U$19),IF($V$15:$V$19=AE36,$Y$15:$Y$19),IF($Z$15:$Z$19=AE36,$AC$15:$AC$19), IF($B$23:$B$27=AE36,$E$23:$E$27),IF($F$23:$F$27=AE36,$I$23:$I$27),IF($J$23:$J$27=AE36,$M$23:$M$27),IF($N$23:$N$27=AE36,$Q$23:$Q$27),IF($R$23:$R$27=AE36,$U$23:$U$27),IF($V$23:$V$27=AE36,$Y$23:$Y$27),IF($Z$23:$Z$27=AE36,$AC$23:$AC$27), IF($B$31:$B$35=AE36,$E$31:$E$35),IF($F$31:$F$35=AE36,$I$31:$I$35),IF($J$31:$J$35=AE36,$M$31:$M$35),IF($N$31:$N$35=AE36,$Q$31:$Q$35),IF($R$31:$R$35=AE36,$U$31:$U$35),IF($V$31:$V$35=AE36,$Y$31:$Y$35),IF($Z$31:$Z$35=AE36,$AC$31:$AC$35), IF($B$39:$B$43=AE36,$E$39:$E$43),IF($F$39:$F$43=AE36,$I$39:$I$43),IF($J$39:$J$43=AE36,$M$39:$M$43),IF($N$39:$N$43=AE36,$Q$39:$Q$43),IF($R$39:$R$43=AE36,$U$39:$U$43),IF($V$39:$V$43=AE36,$Y$39:$Y$43),IF($Z$39:$Z$43=AE36,$AC$39:$AC$43), IF($B$47:$B$51=AE36,$E$47:$E$51),IF($F$47:$F$51=AE36,$I$47:$I$51),IF($J$47:$J$51=AE36,$M$47:$M$51),IF($N$47:$N$51=AE36,$Q$47:$Q$51),IF($R$47:$R$51=AE36,$U$47:$U$51),IF($V$47:$V$51=AE36,$Y$47:$Y$51),IF($Z$47:$Z$51=AE36,$AC$47:$AC$51))} -> 0
D37: Savings | E37: {=AC29+SUM(IF(C31:C35=2,E31:E35))-SUM(IF(B31:B35={33},E31:E35))} -> 100 | H37: Savings | I37: {=E37+SUM(IF(G31:G35=2,I31:I35))-SUM(IF(F31:F35={33},I31:I35))} -> 100 | L37: Savings | M37: {=I37+SUM(IF(K31:K35=2,M31:M35))-SUM(IF(J31:J35={33},M31:M35))} -> 100 | P37: Savings | Q37: {=M37+SUM(IF(O31:O35=2,Q31:Q35))-SUM(IF(N31:N35={33},Q31:Q35))} -> 100 | T37: Savings | U37: {=Q37+SUM(IF(S31:S35=2,U31:U35))-SUM(IF(R31:R35={33},U31:U35))} -> 100 | X37: Savings | Y37: {=U37+SUM(IF(W31:W35=2,Y31:Y35))-SUM(IF(V31:V35={33},Y31:Y35))} -> 100 | AB37: Savings | AC37: {=Y37+SUM(IF(AA31:AA35=2,AC31:AC35))-SUM(IF(Z31:Z35={33},AC31:AC35))} -> 100 | AE37: 31 | AG37: ='Budget 2026'!C96 -> Other Expenses | AH37: {=SUM(IF($B$7:$B$11=AE37,$E$7:$E$11),IF($F$7:$F$11=AE37,$I$7:$I$11),IF($J$7:$J$11=AE37,$M$7:$M$11),IF($N$7:$N$11=AE37,$Q$7:$Q$11),IF($R$7:$R$11=AE37,$U$7:$U$11),IF($V$7:$V$11=AE37,$Y$7:$Y$11),IF($Z$7:$Z$11=AE37,$AC$7:$AC$11), IF($B$15:$B$19=AE37,$E$15:$E$19),IF($F$15:$F$19=AE37,$I$15:$I$19),IF($J$15:$J$19=AE37,$M$15:$M$19),IF($N$15:$N$19=AE37,$Q$15:$Q$19),IF($R$15:$R$19=AE37,$U$15:$U$19),IF($V$15:$V$19=AE37,$Y$15:$Y$19),IF($Z$15:$Z$19=AE37,$AC$15:$AC$19), IF($B$23:$B$27=AE37,$E$23:$E$27),IF($F$23:$F$27=AE37,$I$23:$I$27),IF($J$23:$J$27=AE37,$M$23:$M$27),IF($N$23:$N$27=AE37,$Q$23:$Q$27),IF($R$23:$R$27=AE37,$U$23:$U$27),IF($V$23:$V$27=AE37,$Y$23:$Y$27),IF($Z$23:$Z$27=AE37,$AC$23:$AC$27), IF($B$31:$B$35=AE37,$E$31:$E$35),IF($F$31:$F$35=AE37,$I$31:$I$35),IF($J$31:$J$35=AE37,$M$31:$M$35),IF($N$31:$N$35=AE37,$Q$31:$Q$35),IF($R$31:$R$35=AE37,$U$31:$U$35),IF($V$31:$V$35=AE37,$Y$31:$Y$35),IF($Z$31:$Z$35=AE37,$AC$31:$AC$35), IF($B$39:$B$43=AE37,$E$39:$E$43),IF($F$39:$F$43=AE37,$I$39:$I$43),IF($J$39:$J$43=AE37,$M$39:$M$43),IF($N$39:$N$43=AE37,$Q$39:$Q$43),IF($R$39:$R$43=AE37,$U$39:$U$43),IF($V$39:$V$43=AE37,$Y$39:$Y$43),IF($Z$39:$Z$43=AE37,$AC$39:$AC$43), IF($B$47:$B$51=AE37,$E$47:$E$51),IF($F$47:$F$51=AE37,$I$47:$I$51),IF($J$47:$J$51=AE37,$M$47:$M$51),IF($N$47:$N$51=AE37,$Q$47:$Q$51),IF($R$47:$R$51=AE37,$U$47:$U$51),IF($V$47:$V$51=AE37,$Y$47:$Y$51),IF($Z$47:$Z$51=AE37,$AC$47:$AC$51))} -> 0
D38: Credit | E38: {=AC30+SUM(IF(C31:C35=3,E31:E35))-SUM(IF(B31:B35={34},E31:E35))} -> -100 | H38: Credit | I38: {=E38+SUM(IF(G31:G35=3,I31:I35))-SUM(IF(F31:F35={34},I31:I35))} -> -100 | L38: Credit | M38: {=I38+SUM(IF(K31:K35=3,M31:M35))-SUM(IF(J31:J35={34},M31:M35))} -> -100 | P38: Credit | Q38: {=M38+SUM(IF(O31:O35=3,Q31:Q35))-SUM(IF(N31:N35={34},Q31:Q35))} -> -100 | T38: Credit | U38: {=Q38+SUM(IF(S31:S35=3,U31:U35))-SUM(IF(R31:R35={34},U31:U35))} -> -100 | X38: Credit | Y38: {=U38+SUM(IF(W31:W35=3,Y31:Y35))-SUM(IF(V31:V35={34},Y31:Y35))} -> -100 | AB38: Credit | AC38: {=Y38+SUM(IF(AA31:AA35=3,AC31:AC35))-SUM(IF(Z31:Z35={34},AC31:AC35))} -> -100 | AE38: 32 | AG38: ='Budget 2026'!C97 -> Add't Exp. (Furnishing) | AH38: {=SUM(IF($B$7:$B$11=AE38,$E$7:$E$11),IF($F$7:$F$11=AE38,$I$7:$I$11),IF($J$7:$J$11=AE38,$M$7:$M$11),IF($N$7:$N$11=AE38,$Q$7:$Q$11),IF($R$7:$R$11=AE38,$U$7:$U$11),IF($V$7:$V$11=AE38,$Y$7:$Y$11),IF($Z$7:$Z$11=AE38,$AC$7:$AC$11), IF($B$15:$B$19=AE38,$E$15:$E$19),IF($F$15:$F$19=AE38,$I$15:$I$19),IF($J$15:$J$19=AE38,$M$15:$M$19),IF($N$15:$N$19=AE38,$Q$15:$Q$19),IF($R$15:$R$19=AE38,$U$15:$U$19),IF($V$15:$V$19=AE38,$Y$15:$Y$19),IF($Z$15:$Z$19=AE38,$AC$15:$AC$19), IF($B$23:$B$27=AE38,$E$23:$E$27),IF($F$23:$F$27=AE38,$I$23:$I$27),IF($J$23:$J$27=AE38,$M$23:$M$27),IF($N$23:$N$27=AE38,$Q$23:$Q$27),IF($R$23:$R$27=AE38,$U$23:$U$27),IF($V$23:$V$27=AE38,$Y$23:$Y$27),IF($Z$23:$Z$27=AE38,$AC$23:$AC$27), IF($B$31:$B$35=AE38,$E$31:$E$35),IF($F$31:$F$35=AE38,$I$31:$I$35),IF($J$31:$J$35=AE38,$M$31:$M$35),IF($N$31:$N$35=AE38,$Q$31:$Q$35),IF($R$31:$R$35=AE38,$U$31:$U$35),IF($V$31:$V$35=AE38,$Y$31:$Y$35),IF($Z$31:$Z$35=AE38,$AC$31:$AC$35), IF($B$39:$B$43=AE38,$E$39:$E$43),IF($F$39:$F$43=AE38,$I$39:$I$43),IF($J$39:$J$43=AE38,$M$39:$M$43),IF($N$39:$N$43=AE38,$Q$39:$Q$43),IF($R$39:$R$43=AE38,$U$39:$U$43),IF($V$39:$V$43=AE38,$Y$39:$Y$43),IF($Z$39:$Z$43=AE38,$AC$39:$AC$43), IF($B$47:$B$51=AE38,$E$47:$E$51),IF($F$47:$F$51=AE38,$I$47:$I$51),IF($J$47:$J$51=AE38,$M$47:$M$51),IF($N$47:$N$51=AE38,$Q$47:$Q$51),IF($R$47:$R$51=AE38,$U$47:$U$51),IF($V$47:$V$51=AE38,$Y$47:$Y$51),IF($Z$47:$Z$51=AE38,$AC$47:$AC$51))} -> 0
